View In:
ArcGIS JavaScript
ArcGIS Online Map Viewer
ArcGIS Earth
Service Description: Imagery/Geology_1899
Name: Imagery/Geology_1899
Description:
Single Fused Map Cache: false
Extent:
XMin: 5650057.472081245
YMin: 3641259.454330344
XMax: 5702062.619573245
YMax: 3684065.541489344
Spatial Reference: 102675
(3417)
LatestVCSWkid(0)
Initial Extent:
XMin: 5650057.472081245
YMin: 3641259.454330344
XMax: 5702062.619573245
YMax: 3684065.541489344
Spatial Reference: 102675
(3417)
LatestVCSWkid(0)
Full Extent:
XMin: 5650057.472081245
YMin: 3641259.454330344
XMax: 5702062.619573245
YMax: 3684065.541489344
Spatial Reference: 102675
(3417)
LatestVCSWkid(0)
Pixel Size X: 3.8798229999999925
Pixel Size Y: 3.8798229999999885
Band Count: 3
Pixel Type: U8
RasterFunction Infos: {"rasterFunctionInfos": [{
"name": "None",
"description": "",
"help": ""
}]}
Mensuration Capabilities: Basic
Inspection Capabilities:
Has Histograms: false
Has Colormap: false
Has Multi Dimensions : false
Rendering Rule:
Min Scale: 0
Max Scale: 0
Resampling: false
Copyright Text:
Service Data Type: esriImageServiceDataTypeRGB
Min Values: N/A
Max Values: N/A
Mean Values: N/A
Standard Deviation Values: N/A
Object ID Field:
Fields:
None
Default Mosaic Method: Center
Allowed Mosaic Methods:
SortField:
SortValue: null
Mosaic Operator: First
Default Compression Quality: 75
Default Resampling Method: Bilinear
Max Record Count: null
Max Image Height: 4100
Max Image Width: 15000
Max Download Image Count: null
Max Mosaic Image Count: null
Allow Raster Function: true
Allow Copy: true
Allow Analysis: true
Allow Compute TiePoints: false
Supports Statistics: false
Supports Advanced Queries: false
Use StandardizedQueries: true
Raster Type Infos:
Name: Raster Dataset
Description: Supports all ArcGIS Raster Datasets
Help:
Has Raster Attribute Table: false
Edit Fields Info: null
Ownership Based AccessControl For Rasters: null
Child Resources:
Info
Statistics
Key Properties
Legend
Raster Function Infos
Supported Operations:
Export Image
Identify
Measure
Compute Histograms
Compute Statistics Histograms
Get Samples
Compute Class Statistics
Query Boundary
Compute Pixel Location
Compute Angles
Validate
Project