{
 "currentVersion": 11.5,
 "serviceDescription": "Imagery/Geology_1899",
 "serviceItemId": "a1e0c584ee5f4f4582ce1f401bea6927",
 "name": "Imagery/Geology_1899",
 "description": "",
 "extent": {
  "xmin": 5650057.472081245,
  "ymin": 3641259.454330344,
  "xmax": 5702062.619573245,
  "ymax": 3684065.541489344,
  "spatialReference": {
   "wkid": 102675,
   "latestWkid": 3417
  }
 },
 "initialExtent": {
  "xmin": 5650057.472081245,
  "ymin": 3641259.454330344,
  "xmax": 5702062.619573245,
  "ymax": 3684065.541489344,
  "spatialReference": {
   "wkid": 102675,
   "latestWkid": 3417
  }
 },
 "fullExtent": {
  "xmin": 5650057.472081245,
  "ymin": 3641259.454330344,
  "xmax": 5702062.619573245,
  "ymax": 3684065.541489344,
  "spatialReference": {
   "wkid": 102675,
   "latestWkid": 3417
  }
 },
 "sortableFields": "",
 "bandCount": 3,
 "pixelType": "U8",
 "minValues": [],
 "maxValues": [],
 "meanValues": [],
 "stdvValues": [],
 "serviceProperties": "Center<\/MosaicMethod>First<\/MosaicOperator>true<\/SortAscending><\/LockImageID><\/TileOrderField>0<\/TileOrderBase>0.000000<\/AvgImageSpacingX>0.000000<\/AvgImageSpacingY>0.0<\/ViewPointX>0.0<\/ViewPointY>0.0<\/ViewPointDefShiftX>0.0<\/ViewPointDefShiftY>None<\/CompressionMethod>75<\/CompressionQuality>0.010000<\/CompressionTolerance>Bilinear<\/SamplingMethod><\/ImageServiceProperties><\/ImageServer>",
 "allowedFields": "",
 "hasMultidimensions": false,
 "pixelSizeX": 3.8798229999999925,
 "pixelSizeY": 3.8798229999999885,
 "meanPixelSize": 1.1825724155448283,
 "datasetFormat": "FGDBR",
 "uncompressedSize": 443658996,
 "blockWidth": 128,
 "blockHeight": 128,
 "compressionType": "LZ77",
 "bandNames": [
  "Band_1"
 ],
 "allowCopy": true,
 "allowAnalysis": true,
 "itemAccess": false,
 "inspectionCapabilities": "",
 "noDataValue": 256,
 "noDataValues": [
  256,
  256,
  256
 ],
 "minPixelSize": 0,
 "maxPixelSize": 0,
 "copyrightText": "",
 "serviceDataType": "esriImageServiceDataTypeRGB",
 "serviceSourceType": "esriImageServiceSourceTypeDataset",
 "objectIdField": "",
 "fields": [],
 "capabilities": "Mensuration,Image,Metadata",
 "defaultMosaicMethod": "Center",
 "allowedMosaicMethods": "",
 "sortField": "",
 "sortValue": null,
 "sortAscending": true,
 "mosaicOperator": "First",
 "defaultCompressionQuality": 75,
 "defaultResamplingMethod": "Bilinear",
 "maxImageHeight": 4100,
 "maxImageWidth": 15000,
 "allowRasterFunction": true,
 "rasterFunctionInfos": [
  {
   "name": "None",
   "description": "",
   "help": ""
  }
 ],
 "rasterTypeInfos": [
  {
   "name": "Raster Dataset",
   "description": "Supports all ArcGIS Raster Datasets",
   "help": ""
  }
 ],
 "mensurationCapabilities": "Basic",
 "hasHistograms": false,
 "hasColormap": false,
 "hasRasterAttributeTable": false,
 "minScale": 0,
 "maxScale": 0,
 "exportTilesAllowed": false,
 "supportsStatistics": false,
 "supportsAdvancedQueries": false,
 "editFieldsInfo": null,
 "ownershipBasedAccessControlForRasters": null,
 "allowComputeTiePoints": false,
 "useStandardizedQueries": true,
 "advancedQueryCapabilities": {
  "useStandardizedQueries": true,
  "supportsStatistics": false,
  "supportsOrderBy": false,
  "supportsDistinct": false,
  "supportsPagination": false
 },
 "spatialReference": {
  "wkid": 102675,
  "latestWkid": 3417
 },
 "resampling": false
}
