View In:
ArcGIS JavaScript
ArcGIS Online Map Viewer
ArcGIS Earth
Service Description: Imagery/DubuqueImagery1930s
Name: Imagery/DubuqueImagery1930s
Description:
Single Fused Map Cache: false
Extent:
XMin: 5555639.3751511
YMin: 3575413.8166338606
XMax: 5738414.600151099
YMax: 3725357.742467194
Spatial Reference: 102675
(3417)
Initial Extent:
XMin: 5555639.3751511
YMin: 3575413.8166338606
XMax: 5738414.600151099
YMax: 3725357.742467194
Spatial Reference: 102675
(3417)
Full Extent:
XMin: 5555639.3751511
YMin: 3575413.8166338606
XMax: 5738414.600151099
YMax: 3725357.742467194
Spatial Reference: 102675
(3417)
Pixel Size X: 3.2808333333333266
Pixel Size Y: 3.2808333333333324
Band Count: 1
Pixel Type: U8
RasterFunction Infos: {"rasterFunctionInfos": [{
"name": "None",
"description": "",
"help": ""
}]}
Mensuration Capabilities: Basic
Inspection Capabilities:
Has Histograms: true
Has Colormap: false
Has Multi Dimensions : false
Rendering Rule:
Min Scale: 0
Max Scale: 0
Resampling: false
Copyright Text:
Service Data Type: esriImageServiceDataTypeGeneric
Min Values: 0
Max Values: 255
Mean Values: 81.73532491074212
Standard Deviation Values: 56.59733941328712
Object ID Field:
Fields:
None
Default Mosaic Method: Center
Allowed Mosaic Methods:
SortField:
SortValue: null
Mosaic Operator: First
Default Compression Quality: 75
Default Resampling Method: Bilinear
Max Record Count: null
Max Image Height: 4100
Max Image Width: 15000
Max Download Image Count: null
Max Mosaic Image Count: null
Allow Raster Function: true
Allow Copy: true
Allow Analysis: true
Allow Compute TiePoints: false
Supports Statistics: false
Supports Advanced Queries: false
Use StandardizedQueries: true
Raster Type Infos:
Name: Raster Dataset
Description: Supports all ArcGIS Raster Datasets
Help:
Has Raster Attribute Table: false
Edit Fields Info: null
Ownership Based AccessControl For Rasters: null
Child Resources:
Info
Histograms
Statistics
Key Properties
Legend
Raster Function Infos
Supported Operations:
Export Image
Identify
Measure
Compute Histograms
Compute Statistics Histograms
Get Samples
Compute Class Statistics
Query Boundary
Compute Pixel Location
Compute Angles
Validate
Project