{
 "currentVersion": 11.3,
 "serviceDescription": "Imagery/DubuqueImagery1930s",
 "name": "Imagery/DubuqueImagery1930s",
 "description": "",
 "extent": {
  "xmin": 5555639.3751511,
  "ymin": 3575413.8166338606,
  "xmax": 5738414.600151099,
  "ymax": 3725357.742467194,
  "spatialReference": {
   "wkid": 102675,
   "latestWkid": 3417
  }
 },
 "initialExtent": {
  "xmin": 5555639.3751511,
  "ymin": 3575413.8166338606,
  "xmax": 5738414.600151099,
  "ymax": 3725357.742467194,
  "spatialReference": {
   "wkid": 102675,
   "latestWkid": 3417
  }
 },
 "fullExtent": {
  "xmin": 5555639.3751511,
  "ymin": 3575413.8166338606,
  "xmax": 5738414.600151099,
  "ymax": 3725357.742467194,
  "spatialReference": {
   "wkid": 102675,
   "latestWkid": 3417
  }
 },
 "sortableFields": "",
 "bandCount": 1,
 "pixelType": "U8",
 "minValues": [
  0
 ],
 "maxValues": [
  255
 ],
 "meanValues": [
  81.73532491074212
 ],
 "stdvValues": [
  56.59733941328712
 ],
 "hasMultidimensions": false,
 "pixelSizeX": 3.2808333333333266,
 "pixelSizeY": 3.2808333333333324,
 "meanPixelSize": 0.9999999999999989,
 "datasetFormat": "FGDBR",
 "uncompressedSize": 2546114130,
 "blockWidth": 128,
 "blockHeight": 128,
 "compressionType": "LZ77",
 "bandNames": [
  "Band_1"
 ],
 "allowCopy": true,
 "allowAnalysis": true,
 "itemAccess": false,
 "inspectionCapabilities": "",
 "minPixelSize": 0,
 "maxPixelSize": 0,
 "copyrightText": "",
 "serviceDataType": "esriImageServiceDataTypeGeneric",
 "serviceSourceType": "esriImageServiceSourceTypeDataset",
 "objectIdField": "",
 "fields": [],
 "capabilities": "Mensuration,Image,Metadata",
 "defaultMosaicMethod": "Center",
 "allowedMosaicMethods": "",
 "sortField": "",
 "sortValue": null,
 "sortAscending": true,
 "mosaicOperator": "First",
 "defaultCompressionQuality": 75,
 "defaultResamplingMethod": "Bilinear",
 "maxImageHeight": 4100,
 "maxImageWidth": 15000,
 "allowRasterFunction": true,
 "rasterFunctionInfos": [
  {
   "name": "None",
   "description": "",
   "help": ""
  }
 ],
 "rasterTypeInfos": [
  {
   "name": "Raster Dataset",
   "description": "Supports all ArcGIS Raster Datasets",
   "help": ""
  }
 ],
 "mensurationCapabilities": "Basic",
 "hasHistograms": true,
 "hasColormap": false,
 "hasRasterAttributeTable": false,
 "minScale": 0,
 "maxScale": 0,
 "exportTilesAllowed": false,
 "supportsStatistics": false,
 "supportsAdvancedQueries": false,
 "editFieldsInfo": null,
 "ownershipBasedAccessControlForRasters": null,
 "allowComputeTiePoints": false,
 "useStandardizedQueries": true,
 "advancedQueryCapabilities": {
  "useStandardizedQueries": true,
  "supportsStatistics": false,
  "supportsOrderBy": false,
  "supportsDistinct": false,
  "supportsPagination": false
 },
 "spatialReference": {
  "wkid": 102675,
  "latestWkid": 3417
 },
 "resampling": false
}
