View In:
ArcGIS JavaScript
ArcGIS Online Map Viewer
ArcGIS Earth
Service Description: This data represents a color-infrared (CIR) county orthophoto mosaic in MrSID image format produced from CIR aerial photographs of a particular Iowa county. This county mosaic was developed from individual aerial images taken during the 1980's. These images were a part of the National High Altitude Photography Program (NHAP) that was coordinated by the United States Geological Survey (USGS). The Color-infrared images were taken at a scale of 1:58,000. All photos were digitally scanned from hardcopy prints by the Aerial Photography Field Office in Salt Lake City, UT. They were cast on the Universal Transverse Mercator Projection (UTM) on the North American Datum of 1983 (NAD83). These are wavelet-compressed raster format images at a resolution of 1 meter.
Name: Imagery/DubuqueCounty1980s
Description: This data represents a color-infrared (CIR) county orthophoto mosaic in MrSID image format produced from CIR aerial photographs of a particular Iowa county. This county mosaic was developed from individual aerial images taken during the 1980's. These images were a part of the National High Altitude Photography Program (NHAP) that was coordinated by the United States Geological Survey (USGS). The Color-infrared images were taken at a scale of 1:58,000. All photos were digitally scanned from hardcopy prints by the Aerial Photography Field Office in Salt Lake City, UT. They were cast on the Universal Transverse Mercator Projection (UTM) on the North American Datum of 1983 (NAD83). These are wavelet-compressed raster format images at a resolution of 1 meter.
Single Fused Map Cache: false
Extent:
XMin: 651139.0
YMin: 4682793.0
XMax: 718607.0
YMax: 4728512.0
Spatial Reference: 26915
(26915)
LatestVCSWkid(0)
Initial Extent:
XMin: 651139.0
YMin: 4682793.0
XMax: 718607.0
YMax: 4728512.0
Spatial Reference: 26915
(26915)
LatestVCSWkid(0)
Full Extent:
XMin: 651139.0
YMin: 4682793.0
XMax: 718607.0
YMax: 4728512.0
Spatial Reference: 26915
(26915)
LatestVCSWkid(0)
Pixel Size X: 1.0
Pixel Size Y: 1.0
Band Count: 3
Pixel Type: U8
RasterFunction Infos: {"rasterFunctionInfos": [{
"name": "None",
"description": "",
"help": ""
}]}
Mensuration Capabilities: Basic
Inspection Capabilities:
Has Histograms: true
Has Colormap: false
Has Multi Dimensions : false
Rendering Rule:
Min Scale: 0
Max Scale: 0
Resampling: false
Copyright Text:
Service Data Type: esriImageServiceDataTypeRGB
Min Values: 0, 0, 0
Max Values: 255, 255, 255
Mean Values: 108.10477925066634, 102.55295288027183, 98.46464541347412
Standard Deviation Values: 57.87621040994433, 55.991332374129435, 52.40144376603217
Object ID Field:
Fields:
None
Default Mosaic Method: Center
Allowed Mosaic Methods:
SortField:
SortValue: null
Mosaic Operator: First
Default Compression Quality: 75
Default Resampling Method: Bilinear
Max Record Count: null
Max Image Height: 4100
Max Image Width: 15000
Max Download Image Count: null
Max Mosaic Image Count: null
Allow Raster Function: true
Allow Copy: true
Allow Analysis: true
Allow Compute TiePoints: false
Supports Statistics: false
Supports Advanced Queries: false
Use StandardizedQueries: true
Raster Type Infos:
Name: Raster Dataset
Description: Supports all ArcGIS Raster Datasets
Help:
Has Raster Attribute Table: false
Edit Fields Info: null
Ownership Based AccessControl For Rasters: null
Child Resources:
Info
Histograms
Statistics
Key Properties
Legend
Raster Function Infos
Supported Operations:
Export Image
Identify
Measure
Compute Histograms
Compute Statistics Histograms
Get Samples
Compute Class Statistics
Query Boundary
Compute Pixel Location
Compute Angles
Validate
Project