{
 "currentVersion": 11.3,
 "serviceDescription": "This data represents a color-infrared (CIR) county orthophoto mosaic in MrSID image format produced from CIR aerial photographs of a particular Iowa county. This county mosaic was developed from individual aerial images taken during the 1980's. These images were a part of the National High Altitude Photography Program (NHAP) that was coordinated by the United States Geological Survey (USGS). The Color-infrared images were taken at a scale of 1:58,000. All photos were digitally scanned from hardcopy prints by the Aerial Photography Field Office in Salt Lake City, UT. They were cast on the Universal Transverse Mercator Projection (UTM) on the North American Datum of 1983 (NAD83). These are wavelet-compressed raster format images at a resolution of 1 meter.",
 "name": "Imagery/DubuqueCounty1980s",
 "description": "This data represents a color-infrared (CIR) county orthophoto mosaic in MrSID image format produced from CIR aerial photographs of a particular Iowa county. This county mosaic was developed from individual aerial images taken during the 1980's. These images were a part of the National High Altitude Photography Program (NHAP) that was coordinated by the United States Geological Survey (USGS). The Color-infrared images were taken at a scale of 1:58,000. All photos were digitally scanned from hardcopy prints by the Aerial Photography Field Office in Salt Lake City, UT. They were cast on the Universal Transverse Mercator Projection (UTM) on the North American Datum of 1983 (NAD83). These are wavelet-compressed raster format images at a resolution of 1 meter.",
 "extent": {
  "xmin": 651139,
  "ymin": 4682793,
  "xmax": 718607,
  "ymax": 4728512,
  "spatialReference": {
   "wkid": 26915,
   "latestWkid": 26915
  }
 },
 "initialExtent": {
  "xmin": 651139,
  "ymin": 4682793,
  "xmax": 718607,
  "ymax": 4728512,
  "spatialReference": {
   "wkid": 26915,
   "latestWkid": 26915
  }
 },
 "fullExtent": {
  "xmin": 651139,
  "ymin": 4682793,
  "xmax": 718607,
  "ymax": 4728512,
  "spatialReference": {
   "wkid": 26915,
   "latestWkid": 26915
  }
 },
 "sortableFields": "",
 "bandCount": 3,
 "pixelType": "U8",
 "minValues": [
  0,
  0,
  0
 ],
 "maxValues": [
  255,
  255,
  255
 ],
 "meanValues": [
  108.10477925066634,
  102.55295288027183,
  98.46464541347412
 ],
 "stdvValues": [
  57.87621040994433,
  55.991332374129435,
  52.40144376603217
 ],
 "hasMultidimensions": false,
 "pixelSizeX": 1,
 "pixelSizeY": 1,
 "meanPixelSize": 1,
 "datasetFormat": "FGDBR",
 "uncompressedSize": 9253708476,
 "blockWidth": 128,
 "blockHeight": 128,
 "compressionType": "LZ77",
 "bandNames": [
  "Band_1",
  "Band_2",
  "Band_3"
 ],
 "allowCopy": true,
 "allowAnalysis": true,
 "itemAccess": false,
 "inspectionCapabilities": "",
 "minPixelSize": 0,
 "maxPixelSize": 0,
 "copyrightText": "",
 "serviceDataType": "esriImageServiceDataTypeRGB",
 "serviceSourceType": "esriImageServiceSourceTypeDataset",
 "objectIdField": "",
 "fields": [],
 "capabilities": "Mensuration,Image,Metadata",
 "defaultMosaicMethod": "Center",
 "allowedMosaicMethods": "",
 "sortField": "",
 "sortValue": null,
 "sortAscending": true,
 "mosaicOperator": "First",
 "defaultCompressionQuality": 75,
 "defaultResamplingMethod": "Bilinear",
 "maxImageHeight": 4100,
 "maxImageWidth": 15000,
 "allowRasterFunction": true,
 "rasterFunctionInfos": [
  {
   "name": "None",
   "description": "",
   "help": ""
  }
 ],
 "rasterTypeInfos": [
  {
   "name": "Raster Dataset",
   "description": "Supports all ArcGIS Raster Datasets",
   "help": ""
  }
 ],
 "mensurationCapabilities": "Basic",
 "hasHistograms": true,
 "hasColormap": false,
 "hasRasterAttributeTable": false,
 "minScale": 0,
 "maxScale": 0,
 "exportTilesAllowed": false,
 "supportsStatistics": false,
 "supportsAdvancedQueries": false,
 "editFieldsInfo": null,
 "ownershipBasedAccessControlForRasters": null,
 "allowComputeTiePoints": false,
 "useStandardizedQueries": true,
 "advancedQueryCapabilities": {
  "useStandardizedQueries": true,
  "supportsStatistics": false,
  "supportsOrderBy": false,
  "supportsDistinct": false,
  "supportsPagination": false
 },
 "spatialReference": {
  "wkid": 26915,
  "latestWkid": 26915
 },
 "resampling": false
}
