View In:
ArcGIS JavaScript
ArcGIS Online Map Viewer
ArcGIS Earth
ArcGIS Pro
Service Description:
Map Name: Imagery Only for Tile Package
Legend
All Layers and Tables
Layers:
Description:
Service Item Id: 9725b9def96c4b5d8798a425306c2253
Copyright Text:
Spatial Reference:
102675
(3417)
VCSWkid(5703)
LatestVCSWkid(5703)
Single Fused Map Cache: true
Tile Info:
- Height: 256
- Width: 256
- DPI: 96
-
Levels of Detail: 19
-
Level ID: 0
[ Start Tile, End Tile ]
- Resolution: 940155.268873582
- Scale: 1.083061035864438E9
-
Level ID: 1
[ Start Tile, End Tile ]
- Resolution: 470077.634436791
- Scale: 5.41530517932219E8
-
Level ID: 2
[ Start Tile, End Tile ]
- Resolution: 235038.8172183955
- Scale: 2.707652589661095E8
-
Level ID: 3
[ Start Tile, End Tile ]
- Resolution: 117519.40860919775
- Scale: 1.3538262948305476E8
-
Level ID: 4
[ Start Tile, End Tile ]
- Resolution: 58759.704304598876
- Scale: 6.769131474152738E7
-
Level ID: 5
[ Start Tile, End Tile ]
- Resolution: 29379.852152299438
- Scale: 3.384565737076369E7
-
Level ID: 6
[ Start Tile, End Tile ]
- Resolution: 14689.926076149719
- Scale: 1.6922828685381845E7
-
Level ID: 7
[ Start Tile, End Tile ]
- Resolution: 7344.9630380748595
- Scale: 8461414.342690922
-
Level ID: 8
[ Start Tile, End Tile ]
- Resolution: 3672.4815190374297
- Scale: 4230707.171345461
-
Level ID: 9
[ Start Tile, End Tile ]
- Resolution: 1836.2407595187149
- Scale: 2115353.5856727306
-
Level ID: 10
[ Start Tile, End Tile ]
- Resolution: 918.1203797593574
- Scale: 1057676.7928363653
-
Level ID: 11
[ Start Tile, End Tile ]
- Resolution: 459.0601898796787
- Scale: 528838.3964181826
-
Level ID: 12
[ Start Tile, End Tile ]
- Resolution: 229.53009493983936
- Scale: 264419.1982090913
-
Level ID: 13
[ Start Tile, End Tile ]
- Resolution: 114.76504746991968
- Scale: 132209.59910454566
-
Level ID: 14
[ Start Tile, End Tile ]
- Resolution: 57.38252373495984
- Scale: 66104.79955227283
-
Level ID: 15
[ Start Tile, End Tile ]
- Resolution: 28.69126186747992
- Scale: 33052.399776136415
-
Level ID: 16
[ Start Tile, End Tile ]
- Resolution: 14.34563093373996
- Scale: 16526.199888068208
-
Level ID: 17
[ Start Tile, End Tile ]
- Resolution: 7.17281546686998
- Scale: 8263.099944034104
-
Level ID: 18
[ Start Tile, End Tile ]
- Resolution: 3.58640773343499
- Scale: 4131.549972017052
- Format: Mixed
- Compression Quality: 75.0
- Origin: X: -1.154186244158185E8
Y: 1.1849248128022888E8
- Spatial Reference: 102675
(3417)
VCSWkid(5703)
LatestVCSWkid(5703)
Storage Info:
- Storage Format: esriMapCacheStorageModeCompactV2
- Packet Size: 128
Initial Extent:
XMin: 5537142.550058511
YMin: 3478155.9903149935
XMax: 5818529.422328542
YMax: 3686532.972365376
Spatial Reference: 102675
(3417)
VCSWkid(5703)
LatestVCSWkid(5703)
Full Extent:
XMin: 5674701.242806946
YMin: 3487627.6713172835
XMax: 5680970.729580107
YMax: 3677061.2913630866
Spatial Reference: 102675
(3417)
VCSWkid(5703)
LatestVCSWkid(5703)
Units: esriFeet
Supported Image Format Types: PNG32,PNG24,PNG,JPG,DIB,TIFF,EMF,PS,PDF,GIF,SVG,SVGZ,BMP
Document Info:
Title: H:\Engineering\Basemap\Basemap.aprx
Author:
Comments:
Subject:
Category:
Keywords:
AntialiasingMode: None
TextAntialiasingMode: Force
Supports Dynamic Layers: false
MaxRecordCount: 1000
MaxImageHeight: 4096
MaxImageWidth: 4096
Supported Query Formats: JSON, geoJSON, PBF
Supports Query Data Elements: true
Min Scale: 16526.199888068208
Max Scale: 4131.549972017052
Supports Datum Transformation: true
Child Resources:
Info
Supported Operations:
QueryLegends
Return Updates