View In:
ArcGIS JavaScript
ArcGIS Online Map Viewer
ArcGIS Earth
Service Description: The Digital Raster Graphic (DRG) is a scanned image of a US Geological Survey (USGS) standard series topographic map that includes all collar information (e.g., legend, scale bar, index map, etc.) The DRGE is a non-proprietary product of a USGS DRG in which the map collar information has been removed.
Name: Imagery/USGS_Quads_DubuqueCounty
Description: The Digital Raster Graphic (DRG) is a scanned image of a US Geological Survey (USGS) standard series topographic map that includes all collar information (e.g., legend, scale bar, index map, etc.) The DRGE is a non-proprietary product of a USGS DRG in which the map collar information has been removed.
Single Fused Map Cache: false
Extent:
XMin: 643206.362823581
YMin: 4679016.636896069
XMax: 716538.804423581
YMax: 4736394.627296069
Spatial Reference: 26915
(26915)
LatestVCSWkid(0)
Initial Extent:
XMin: 643206.362823581
YMin: 4679016.636896069
XMax: 716538.804423581
YMax: 4736394.627296069
Spatial Reference: 26915
(26915)
LatestVCSWkid(0)
Full Extent:
XMin: 643206.362823581
YMin: 4679016.636896069
XMax: 716538.804423581
YMax: 4736394.627296069
Spatial Reference: 26915
(26915)
LatestVCSWkid(0)
Pixel Size X: 2.4384000000000006
Pixel Size Y: 2.4383999999999806
Band Count: 3
Pixel Type: U8
RasterFunction Infos: {"rasterFunctionInfos": [{
"name": "None",
"description": "",
"help": ""
}]}
Mensuration Capabilities: Basic
Inspection Capabilities:
Has Histograms: true
Has Colormap: false
Has Multi Dimensions : false
Rendering Rule:
Min Scale: 0
Max Scale: 0
Resampling: false
Copyright Text:
Service Data Type: esriImageServiceDataTypeRGB
Min Values: 0, 0, 0
Max Values: 255, 255, 255
Mean Values: 217.3357297717378, 215.34119271058069, 204.03244131448406
Standard Deviation Values: 60.27950337590028, 65.26013284748836, 73.7458826540267
Object ID Field:
Fields:
None
Default Mosaic Method: Center
Allowed Mosaic Methods:
SortField:
SortValue: null
Mosaic Operator: First
Default Compression Quality: 75
Default Resampling Method: Bilinear
Max Record Count: null
Max Image Height: 4100
Max Image Width: 15000
Max Download Image Count: null
Max Mosaic Image Count: null
Allow Raster Function: true
Allow Copy: true
Allow Analysis: true
Allow Compute TiePoints: false
Supports Statistics: false
Supports Advanced Queries: false
Use StandardizedQueries: true
Raster Type Infos:
Name: Raster Dataset
Description: Supports all ArcGIS Raster Datasets
Help:
Has Raster Attribute Table: false
Edit Fields Info: null
Ownership Based AccessControl For Rasters: null
Child Resources:
Info
Histograms
Statistics
Key Properties
Legend
Raster Function Infos
Supported Operations:
Export Image
Identify
Measure
Compute Histograms
Compute Statistics Histograms
Get Samples
Compute Class Statistics
Query Boundary
Compute Pixel Location
Compute Angles
Validate
Project