View In:
ArcGIS JavaScript
ArcGIS Online Map Viewer
ArcGIS Earth
Service Description: This imagery was captured by ASI on July 28, 2011, hours after a major storm event swept through the City. The imagery is for internal use only and should not be redistributed to consultants.
Name: Imagery/JulyStorm_2011
Description: This imagery was captured by ASI on July 28, 2011, hours after a major storm event swept through the City. The imagery is for internal use only and should not be redistributed to consultants.
Single Fused Map Cache: false
Extent:
XMin: 680300.0122769475
YMin: 4699500.02293654
XMax: 695299.8922769469
YMax: 4716500.06293654
Spatial Reference: 0
(0)
LatestVCSWkid(0)
Initial Extent:
XMin: 680300.0122769475
YMin: 4699500.02293654
XMax: 695299.8922769469
YMax: 4716500.06293654
Spatial Reference: 0
(0)
LatestVCSWkid(0)
Full Extent:
XMin: 680300.0122769475
YMin: 4699500.02293654
XMax: 695299.8922769469
YMax: 4716500.06293654
Spatial Reference: 0
(0)
LatestVCSWkid(0)
Pixel Size X: 0.11999999999999537
Pixel Size Y: 0.12000000000000026
Band Count: 3
Pixel Type: U8
RasterFunction Infos: {"rasterFunctionInfos": [{
"name": "None",
"description": "",
"help": ""
}]}
Mensuration Capabilities: Basic
Inspection Capabilities:
Has Histograms: true
Has Colormap: false
Has Multi Dimensions : false
Rendering Rule:
Min Scale: 0
Max Scale: 0
Resampling: false
Copyright Text:
Service Data Type: esriImageServiceDataTypeRGB
Min Values: 0, 0, 0
Max Values: 255, 255, 255
Mean Values: 70.01579663764122, 86.25949562165665, 79.52969153038276
Standard Deviation Values: 41.355164899864775, 37.224183606678366, 35.56380476807885
Object ID Field:
Fields:
None
Default Mosaic Method: Center
Allowed Mosaic Methods:
SortField:
SortValue: null
Mosaic Operator: First
Default Compression Quality: 75
Default Resampling Method: Bilinear
Max Record Count: null
Max Image Height: 4100
Max Image Width: 15000
Max Download Image Count: null
Max Mosaic Image Count: null
Allow Raster Function: true
Allow Copy: true
Allow Analysis: true
Allow Compute TiePoints: false
Supports Statistics: false
Supports Advanced Queries: false
Use StandardizedQueries: true
Raster Type Infos:
Name: Raster Dataset
Description: Supports all ArcGIS Raster Datasets
Help:
Has Raster Attribute Table: false
Edit Fields Info: null
Ownership Based AccessControl For Rasters: null
Child Resources:
Info
Histograms
Statistics
Key Properties
Legend
Raster Function Infos
Supported Operations:
Export Image
Identify
Measure
Compute Histograms
Compute Statistics Histograms
Get Samples
Compute Class Statistics
Query Boundary
Compute Pixel Location
Compute Angles
Validate
Project