View In:
ArcGIS JavaScript
ArcGIS Online Map Viewer
ArcGIS Earth
Service Description: Imagery2009
Name: Imagery/Imagery2009
Description: Imagery2009
Single Fused Map Cache: false
Extent:
XMin: 5635500.084180802
YMin: 3604499.760596931
XMax: 5704500.084180802
YMax: 3691499.760596931
Spatial Reference: 102675
(3417)
LatestVCSWkid(0)
Initial Extent:
XMin: 5635500.084180802
YMin: 3604499.760596931
XMax: 5704500.084180802
YMax: 3691499.760596931
Spatial Reference: 102675
(3417)
LatestVCSWkid(0)
Full Extent:
XMin: 5635500.084180802
YMin: 3604499.760596931
XMax: 5704500.084180802
YMax: 3691499.760596931
Spatial Reference: 102675
(3417)
LatestVCSWkid(0)
Pixel Size X: 0.5
Pixel Size Y: 0.5
Band Count: 3
Pixel Type: U8
RasterFunction Infos: {"rasterFunctionInfos": [{
"name": "None",
"description": "",
"help": ""
}]}
Mensuration Capabilities: Basic
Inspection Capabilities:
Has Histograms: true
Has Colormap: false
Has Multi Dimensions : false
Rendering Rule:
Min Scale: 0
Max Scale: 0
Resampling: false
Copyright Text:
Service Data Type: esriImageServiceDataTypeRGB
Min Values: 0, 0, 0
Max Values: 255, 255, 255
Mean Values: 113.53240620192877, 112.57269534640871, 112.33313837232281
Standard Deviation Values: 52.08391285942171, 50.54301837081328, 45.851744658118804
Object ID Field:
Fields:
None
Default Mosaic Method: Center
Allowed Mosaic Methods:
SortField:
SortValue: null
Mosaic Operator: First
Default Compression Quality: 75
Default Resampling Method: Bilinear
Max Record Count: null
Max Image Height: 4100
Max Image Width: 15000
Max Download Image Count: null
Max Mosaic Image Count: null
Allow Raster Function: true
Allow Copy: true
Allow Analysis: true
Allow Compute TiePoints: false
Supports Statistics: false
Supports Advanced Queries: false
Use StandardizedQueries: true
Raster Type Infos:
Name: Raster Dataset
Description: Supports all ArcGIS Raster Datasets
Help:
Has Raster Attribute Table: false
Edit Fields Info: null
Ownership Based AccessControl For Rasters: null
Child Resources:
Info
Histograms
Statistics
Key Properties
Legend
Raster Function Infos
Supported Operations:
Export Image
Identify
Measure
Compute Histograms
Compute Statistics Histograms
Get Samples
Compute Class Statistics
Query Boundary
Compute Pixel Location
Compute Angles
Validate
Project