View In:
ArcGIS JavaScript
ArcGIS Online Map Viewer
ArcGIS Earth
Service Description: Imagery/DubuqueCounty2023
Name: Imagery/DubuqueCounty2023
Description:
Single Fused Map Cache: false
Extent:
XMin: 648182.4
YMin: 4678822.5
XMax: 711276.0
YMax: 4729005.9
Spatial Reference: 26915
(26915)
LatestVCSWkid(0)
Initial Extent:
XMin: 648182.4
YMin: 4678822.5
XMax: 711276.0
YMax: 4729005.9
Spatial Reference: 26915
(26915)
LatestVCSWkid(0)
Full Extent:
XMin: 648182.4
YMin: 4678822.5
XMax: 711276.0
YMax: 4729005.9
Spatial Reference: 26915
(26915)
LatestVCSWkid(0)
Pixel Size X: 0.2999999999999999
Pixel Size Y: 0.3000000000000022
Band Count: 3
Pixel Type: U8
RasterFunction Infos: {"rasterFunctionInfos": [{
"name": "None",
"description": "",
"help": ""
}]}
Mensuration Capabilities: Basic
Inspection Capabilities:
Has Histograms: true
Has Colormap: false
Has Multi Dimensions : false
Rendering Rule:
Min Scale: 0
Max Scale: 0
Resampling: false
Copyright Text:
Service Data Type: esriImageServiceDataTypeRGB
Min Values: 0, 0, 0
Max Values: 233, 231, 218
Mean Values: 76.14870944826, 90.022969452995, 60.925053279659
Standard Deviation Values: 46.232987502735, 51.364517947637, 35.840669394003
Object ID Field:
Fields:
None
Default Mosaic Method: Center
Allowed Mosaic Methods:
SortField:
SortValue: null
Mosaic Operator: First
Default Compression Quality: 75
Default Resampling Method: Bilinear
Max Record Count: null
Max Image Height: 4100
Max Image Width: 15000
Max Download Image Count: null
Max Mosaic Image Count: null
Allow Raster Function: true
Allow Copy: true
Allow Analysis: true
Allow Compute TiePoints: false
Supports Statistics: false
Supports Advanced Queries: false
Use StandardizedQueries: true
Raster Type Infos:
Name: Raster Dataset
Description: Supports all ArcGIS Raster Datasets
Help:
Has Raster Attribute Table: false
Edit Fields Info: null
Ownership Based AccessControl For Rasters: null
Child Resources:
Info
Histograms
Statistics
Key Properties
Legend
Raster Function Infos
Supported Operations:
Export Image
Identify
Measure
Compute Histograms
Compute Statistics Histograms
Get Samples
Compute Class Statistics
Query Boundary
Compute Pixel Location
Compute Angles
Validate
Project