View In:
ArcGIS JavaScript
ArcGIS Online Map Viewer
ArcGIS Earth
Service Description: DubuqueCounty2010
Name: Imagery/DubuqueCounty2010
Description: DubuqueCounty2010
Single Fused Map Cache: false
Extent:
XMin: 649224.0
YMin: 4681728.000000003
XMax: 710184.0
YMax: 4730496.0
Spatial Reference: 26915
(26915)
LatestVCSWkid(0)
Initial Extent:
XMin: 649224.0
YMin: 4681728.000000003
XMax: 710184.0
YMax: 4730496.0
Spatial Reference: 26915
(26915)
LatestVCSWkid(0)
Full Extent:
XMin: 649224.0
YMin: 4681728.000000003
XMax: 710184.0
YMax: 4730496.0
Spatial Reference: 26915
(26915)
LatestVCSWkid(0)
Pixel Size X: 0.6096
Pixel Size Y: 0.6095999999999651
Band Count: 3
Pixel Type: U8
RasterFunction Infos: {"rasterFunctionInfos": [{
"name": "None",
"description": "",
"help": ""
}]}
Mensuration Capabilities: Basic
Inspection Capabilities:
Has Histograms: true
Has Colormap: false
Has Multi Dimensions : false
Rendering Rule:
Min Scale: 0
Max Scale: 0
Resampling: false
Copyright Text:
Service Data Type: esriImageServiceDataTypeRGB
Min Values: 0, 0, 0
Max Values: 255, 255, 255
Mean Values: 95.081824016625, 96.546406487375, 82.898349584625
Standard Deviation Values: 62.82370283273489, 55.05129998824288, 48.01123171592574
Object ID Field:
Fields:
None
Default Mosaic Method: Center
Allowed Mosaic Methods:
SortField:
SortValue: null
Mosaic Operator: First
Default Compression Quality: 75
Default Resampling Method: Bilinear
Max Record Count: null
Max Image Height: 4100
Max Image Width: 15000
Max Download Image Count: null
Max Mosaic Image Count: null
Allow Raster Function: true
Allow Copy: true
Allow Analysis: true
Allow Compute TiePoints: false
Supports Statistics: false
Supports Advanced Queries: false
Use StandardizedQueries: true
Raster Type Infos:
Name: Raster Dataset
Description: Supports all ArcGIS Raster Datasets
Help:
Has Raster Attribute Table: false
Edit Fields Info: null
Ownership Based AccessControl For Rasters: null
Child Resources:
Info
Histograms
Statistics
Key Properties
Legend
Raster Function Infos
Supported Operations:
Export Image
Identify
Measure
Compute Histograms
Compute Statistics Histograms
Get Samples
Compute Class Statistics
Query Boundary
Compute Pixel Location
Compute Angles
Validate
Project