View In:
ArcGIS JavaScript
ArcGIS Online Map Viewer
ArcGIS Earth
Service Description: This data represents a panchromatic county orthophoto mosaic in MrSID image format produced from black and white aerial photographs of a particular Iowa county. This county mosaic was developed from individual aerial images taken during the 1970s by the Agricultural Stabilization and Conservation Service, part of the US Department of Agriculture. The images were originally photographed at 1:20,000 scale, were digitally scanned from hardcopy prints at various scales and from various sources, and for this purpose were cast on the Universal Transverse Mercator Projection (UTM) on the North American Datum of 1983 (NAD83). These are wavelet-compressed raster format images at a resolution of 1 meter.
Name: Imagery/DubuqueCounty1970s
Description: This data represents a panchromatic county orthophoto mosaic in MrSID image format produced from black and white aerial photographs of a particular Iowa county. This county mosaic was developed from individual aerial images taken during the 1970s by the Agricultural Stabilization and Conservation Service, part of the US Department of Agriculture. The images were originally photographed at 1:20,000 scale, were digitally scanned from hardcopy prints at various scales and from various sources, and for this purpose were cast on the Universal Transverse Mercator Projection (UTM) on the North American Datum of 1983 (NAD83). These are wavelet-compressed raster format images at a resolution of 1 meter.
Single Fused Map Cache: false
Extent:
XMin: 652674
YMin: 4684100
XMax: 708727
YMax: 4727453
Spatial Reference: 26915
(26915)
Initial Extent:
XMin: 652674
YMin: 4684100
XMax: 708727
YMax: 4727453
Spatial Reference: 26915
(26915)
Full Extent:
XMin: 652674
YMin: 4684100
XMax: 708727
YMax: 4727453
Spatial Reference: 26915
(26915)
Pixel Size X: 1.0
Pixel Size Y: 1.0
Band Count: 1
Pixel Type: U8
RasterFunction Infos: {"rasterFunctionInfos": [{
"name": "None",
"description": "",
"help": ""
}]}
Mensuration Capabilities: Basic
Inspection Capabilities:
Has Histograms: true
Has Colormap: false
Has Multi Dimensions : false
Rendering Rule:
Min Scale: 0
Max Scale: 0
Resampling: false
Copyright Text:
Service Data Type: esriImageServiceDataTypeGeneric
Min Values: 0
Max Values: 255
Mean Values: 106.86497464789336
Standard Deviation Values: 57.31586036489419
Object ID Field:
Fields:
None
Default Mosaic Method: Center
Allowed Mosaic Methods:
SortField:
SortValue: null
Mosaic Operator: First
Default Compression Quality: 75
Default Resampling Method: Bilinear
Max Record Count: null
Max Image Height: 4100
Max Image Width: 15000
Max Download Image Count: null
Max Mosaic Image Count: null
Allow Raster Function: true
Allow Copy: true
Allow Analysis: true
Allow Compute TiePoints: false
Supports Statistics: false
Supports Advanced Queries: false
Use StandardizedQueries: true
Raster Type Infos:
Name: Raster Dataset
Description: Supports all ArcGIS Raster Datasets
Help:
Has Raster Attribute Table: false
Edit Fields Info: null
Ownership Based AccessControl For Rasters: null
Child Resources:
Info
Histograms
Statistics
Key Properties
Legend
Raster Function Infos
Supported Operations:
Export Image
Identify
Measure
Compute Histograms
Compute Statistics Histograms
Get Samples
Compute Class Statistics
Query Boundary
Compute Pixel Location
Compute Angles
Validate
Project