View In:
ArcGIS JavaScript
ArcGIS Online Map Viewer
ArcGIS Earth
Service Description: This imagery was captured using a drone device on and after the date(s) of the spring 2022 aerial flight procured by Dubuque County, IA. Drone imagery is flown over certain areas of Dubuque and the surrounding area to maintain accurate imagery of new projects.
Below is a list of updates to this data set.
UPDATED 2022-06-10 to include the Bee Branch Culvert area drone imagery.
UPDATED 2022-06-17 to include Rustic Point Subdivision drone imagery.
UPDATED 2022-06-21 to include Silver Oaks Subdivision drone imagery.
UPDATED 2022-07-18 to include Miracle Field drone imagery.
UPDATED 2022-08-11 to include new Rustic Point Subdivision drone imagery - removed earlier imagery of this same area.
UPDATED 2022-11-01 to include Tucker Freight drone imagery.
UPDATED 2022-11-07 to include new Rustic Point Subdivision drone imagery - removed earlier imagery of this same area.
UPDATED 2022-11-07 to include new Mystique Ice Center drone imagery.
UPDATED 2022-12-07 to include new Silver Oaks Subdivision drone imagery.
UPDATED 2023-02-06 to include Stoneman Rd drone imagery.
UPDATED 2023-02-13 to include new Miracle Field drone imagery - removed earlier imagery of this same area.
UPDATED 2023-02-13 to include Wilbricht Ln drone imagery.
UPDATED 2023-05-11 to include Bunker Hill Golf Course drone imagery.
UPDATED 2023-06-02 to include Silver Oaks Subdivision improvements.
Name: Imagery/DroneImagery2022
Description: This imagery was captured using a drone device on and after the date(s) of the spring 2022 aerial flight procured by Dubuque County, IA. Drone imagery is flown over certain areas of Dubuque and the surrounding area to maintain accurate imagery of new projects.
Below is a list of updates to this data set.
UPDATED 2022-06-10 to include the Bee Branch Culvert area drone imagery.
UPDATED 2022-06-17 to include Rustic Point Subdivision drone imagery.
UPDATED 2022-06-21 to include Silver Oaks Subdivision drone imagery.
UPDATED 2022-07-18 to include Miracle Field drone imagery.
UPDATED 2022-08-11 to include new Rustic Point Subdivision drone imagery - removed earlier imagery of this same area.
UPDATED 2022-11-01 to include Tucker Freight drone imagery.
UPDATED 2022-11-07 to include new Rustic Point Subdivision drone imagery - removed earlier imagery of this same area.
UPDATED 2022-11-07 to include new Mystique Ice Center drone imagery.
UPDATED 2022-12-07 to include new Silver Oaks Subdivision drone imagery.
UPDATED 2023-02-06 to include Stoneman Rd drone imagery.
UPDATED 2023-02-13 to include new Miracle Field drone imagery - removed earlier imagery of this same area.
UPDATED 2023-02-13 to include Wilbricht Ln drone imagery.
UPDATED 2023-05-11 to include Bunker Hill Golf Course drone imagery.
UPDATED 2023-06-02 to include Silver Oaks Subdivision improvements.
Single Fused Map Cache: false
Extent:
XMin: 5654186.65104264
YMin: 3624590.5478334716
XMax: 5690386.16604264
YMax: 3682855.0178334713
Spatial Reference: 102675
(3417)
Initial Extent:
XMin: 5654186.65104264
YMin: 3624590.5478334716
XMax: 5690386.16604264
YMax: 3682855.0178334713
Spatial Reference: 102675
(3417)
Full Extent:
XMin: 5654186.65104264
YMin: 3624590.5478334716
XMax: 5690386.16604264
YMax: 3682855.0178334713
Spatial Reference: 102675
(3417)
Pixel Size X: 0.054999999999999494
Pixel Size Y: 0.05499999999999975
Band Count: 4
Pixel Type: U8
RasterFunction Infos: {"rasterFunctionInfos": [
{
"name": "None",
"description": "Make a Raster or Raster Dataset into a Function Raster Dataset.",
"help": ""
},
{
"name": "None",
"description": "Make a Raster or Raster Dataset into a Function Raster Dataset.",
"help": ""
}
]}
Mensuration Capabilities: Basic
Inspection Capabilities:
Has Histograms: true
Has Colormap: false
Has Multi Dimensions : false
Rendering Rule:
Min Scale: 0
Max Scale: 0
Resampling: false
Copyright Text: Troy Kress - Engineering Technician - City of Dubuque Engineering DepartmentCity of Dubuque GIS Office
Service Data Type: esriImageServiceDataTypeGeneric
Min Values: 0, 0, 0, 0
Max Values: 255, 255, 255, 255
Mean Values: 55.12799752821206, 54.73505032019488, 49.50809426511868, 119.217998319756
Standard Deviation Values: 69.11869677302519, 67.61050797869814, 63.14750405372388, 127.2307292115488
Object ID Field: OBJECTID
Fields:
-
OBJECTID
(
type: esriFieldTypeOID, alias: OBJECTID
)
-
Shape
(
type: esriFieldTypeGeometry, alias: Shape
)
-
Name
(
type: esriFieldTypeString, alias: Name, length: 200
)
-
MinPS
(
type: esriFieldTypeDouble, alias: MinPS
)
-
MaxPS
(
type: esriFieldTypeDouble, alias: MaxPS
)
-
LowPS
(
type: esriFieldTypeDouble, alias: LowPS
)
-
HighPS
(
type: esriFieldTypeDouble, alias: HighPS
)
-
Category
(
type: esriFieldTypeInteger, alias: Category
, Coded Values:
[0: Unknown]
, [1: Primary]
, [2: Overview]
, ...6 more...
)
-
Tag
(
type: esriFieldTypeString, alias: Tag, length: 100
)
-
GroupName
(
type: esriFieldTypeString, alias: GroupName, length: 100
)
-
ProductName
(
type: esriFieldTypeString, alias: ProductName, length: 100
)
-
CenterX
(
type: esriFieldTypeDouble, alias: CenterX
)
-
CenterY
(
type: esriFieldTypeDouble, alias: CenterY
)
-
ZOrder
(
type: esriFieldTypeInteger, alias: ZOrder
)
-
Shape_Length
(
type: esriFieldTypeDouble, alias: Shape_Length
)
-
Shape_Area
(
type: esriFieldTypeDouble, alias: Shape_Area
)
Default Mosaic Method: Northwest
Allowed Mosaic Methods: NorthWest,Center,LockRaster,ByAttribute,Nadir,Viewpoint,Seamline,None
SortField:
SortValue: null
Mosaic Operator: Last
Default Compression Quality: 75
Default Resampling Method: Bilinear
Max Record Count: 1000
Max Image Height: 4100
Max Image Width: 15000
Max Download Image Count: 20
Max Mosaic Image Count: 300
Allow Raster Function: true
Allow Copy: true
Allow Analysis: true
Allow Compute TiePoints: false
Supports Statistics: true
Supports Advanced Queries: true
Use StandardizedQueries: true
Raster Type Infos:
Name: Raster Dataset
Description: Supports all ArcGIS Raster Datasets
Help:
Has Raster Attribute Table: false
Edit Fields Info: null
Ownership Based AccessControl For Rasters: null
Child Resources:
Info
Histograms
Statistics
Key Properties
Legend
Raster Function Infos
Supported Operations:
Export Image
Query
Identify
Measure
Compute Histograms
Compute Statistics Histograms
Get Samples
Compute Class Statistics
Query GPS Info
Find Images
Image to Map
Map to Image
Measure from Image
Image to Map Multiray
Query Boundary
Compute Pixel Location
Compute Angles
Validate
Project