View In:
ArcGIS JavaScript
ArcGIS Online Map Viewer
ArcGIS Earth
Service Description: Airport orthophotography from 2019.
Name: Imagery/AirportImagery_2019
Description: Airport orthophotography from 2019.
Single Fused Map Cache: false
Extent:
XMin: 5670733.520926473
YMin: 3614539.858793524
XMax: 5681808.770926473
YMax: 3627385.858793524
Spatial Reference: 102675
(3417)
Initial Extent:
XMin: 5670733.520926473
YMin: 3614539.858793524
XMax: 5681808.770926473
YMax: 3627385.858793524
Spatial Reference: 102675
(3417)
Full Extent:
XMin: 5670733.520926473
YMin: 3614539.858793524
XMax: 5681808.770926473
YMax: 3627385.858793524
Spatial Reference: 102675
(3417)
Pixel Size X: 0.25
Pixel Size Y: 0.25
Band Count: 3
Pixel Type: U8
RasterFunction Infos: {"rasterFunctionInfos": [{
"name": "None",
"description": "",
"help": ""
}]}
Mensuration Capabilities: Basic
Inspection Capabilities:
Has Histograms: true
Has Colormap: false
Has Multi Dimensions : false
Rendering Rule:
Min Scale: 0
Max Scale: 0
Resampling: false
Copyright Text: Dubuque Regional Airport
Service Data Type: esriImageServiceDataTypeRGB
Min Values: 0, 0, 0
Max Values: 255, 255, 255
Mean Values: 47.97832835887097, 57.531420722912394, 48.886022048146614
Standard Deviation Values: 45.827015918880484, 43.60702707060775, 42.027249928163954
Object ID Field:
Fields:
None
Default Mosaic Method: Center
Allowed Mosaic Methods:
SortField:
SortValue: null
Mosaic Operator: First
Default Compression Quality: 75
Default Resampling Method: Bilinear
Max Record Count: null
Max Image Height: 4100
Max Image Width: 15000
Max Download Image Count: null
Max Mosaic Image Count: null
Allow Raster Function: true
Allow Copy: true
Allow Analysis: true
Allow Compute TiePoints: false
Supports Statistics: false
Supports Advanced Queries: false
Use StandardizedQueries: true
Raster Type Infos:
Name: Raster Dataset
Description: Supports all ArcGIS Raster Datasets
Help:
Has Raster Attribute Table: false
Edit Fields Info: null
Ownership Based AccessControl For Rasters: null
Child Resources:
Info
Histograms
Statistics
Key Properties
Legend
Raster Function Infos
Supported Operations:
Export Image
Identify
Measure
Compute Histograms
Compute Statistics Histograms
Get Samples
Compute Class Statistics
Query Boundary
Compute Pixel Location
Compute Angles
Validate
Project