Orthogonal imagery captured as a part of the Pictometry project completed in April 2013 by Dubuque County.<\/span><\/p><\/div><\/div>",
"serviceItemId": "ccd313a3d05743ff8fbd737d76eee407",
"name": "Imagery/Pictometry2013",
"description": "Orthogonal imagery captured as a part of the Pictometry project completed in April 2013 by Dubuque County.<\/span><\/p><\/div><\/div>",
"extent": {
"xmin": 5621000.000264449,
"ymin": 3580431.0011709346,
"xmax": 5740374.999070679,
"ymax": 3698388.333324675,
"spatialReference": {
"wkt2": "PROJCRS[\"NAD83_Iowa_North_ft\",BASEGEOGCRS[\"GCS_Geographic Coordinate System\",DATUM[\"D_NORTH_AMERICAN_1983\",ELLIPSOID[\"GRS_1980\",6378137.0,298.257222101,LENGTHUNIT[\"Meter\",1.0]]],PRIMEM[\"Greenwich\",0.0,ANGLEUNIT[\"Degree\",0.0174532925199433]],CS[ellipsoidal,2],ANGLEUNIT[\"Degree\",0.0174532925199433]],CONVERSION[\"Lambert_Conformal_Conic\",METHOD[\"Lambert_Conformal_Conic\"],PARAMETER[\"false_easting\",4921250.0,LENGTHUNIT[\"Foot_US\",0.3048006096012192]],PARAMETER[\"false_northing\",3280833.333333334,LENGTHUNIT[\"Foot_US\",0.3048006096012192]],PARAMETER[\"central_meridian\",-93.5,ANGLEUNIT[\"Degree\",0.0174532925199433]],PARAMETER[\"standard_parallel_1\",42.06666666666667,ANGLEUNIT[\"Degree\",0.0174532925199433]],PARAMETER[\"standard_parallel_2\",43.26666666666667,ANGLEUNIT[\"Degree\",0.0174532925199433]],PARAMETER[\"scale_factor\",1.0,SCALEUNIT[\"Unity\",1.0]],PARAMETER[\"latitude_of_origin\",41.5,ANGLEUNIT[\"Degree\",0.0174532925199433]]],CS[Cartesian,2],AXIS[\"Easting (X)\",east,ORDER[1]],AXIS[\"Northing (Y)\",north,ORDER[2]],LENGTHUNIT[\"Foot_US\",0.3048006096012192]]",
"wkt": "PROJCS[\"NAD83_Iowa_North_ft\",GEOGCS[\"GCS_Geographic Coordinate System\",DATUM[\"D_NORTH_AMERICAN_1983\",SPHEROID[\"GRS_1980\",6378137.0,298.257222101]],PRIMEM[\"Greenwich\",0.0],UNIT[\"Degree\",0.0174532925199433]],PROJECTION[\"Lambert_Conformal_Conic\"],PARAMETER[\"false_easting\",4921250.0],PARAMETER[\"false_northing\",3280833.333333334],PARAMETER[\"central_meridian\",-93.5],PARAMETER[\"standard_parallel_1\",42.06666666666667],PARAMETER[\"standard_parallel_2\",43.26666666666667],PARAMETER[\"scale_factor\",1.0],PARAMETER[\"latitude_of_origin\",41.5],UNIT[\"Foot_US\",0.3048006096012192]]"
}
},
"initialExtent": {
"xmin": 5621000.000264449,
"ymin": 3580431.0011709346,
"xmax": 5740374.999070679,
"ymax": 3698388.333324675,
"spatialReference": {
"wkt2": "PROJCRS[\"NAD83_Iowa_North_ft\",BASEGEOGCRS[\"GCS_Geographic Coordinate System\",DATUM[\"D_NORTH_AMERICAN_1983\",ELLIPSOID[\"GRS_1980\",6378137.0,298.257222101,LENGTHUNIT[\"Meter\",1.0]]],PRIMEM[\"Greenwich\",0.0,ANGLEUNIT[\"Degree\",0.0174532925199433]],CS[ellipsoidal,2],ANGLEUNIT[\"Degree\",0.0174532925199433]],CONVERSION[\"Lambert_Conformal_Conic\",METHOD[\"Lambert_Conformal_Conic\"],PARAMETER[\"false_easting\",4921250.0,LENGTHUNIT[\"Foot_US\",0.3048006096012192]],PARAMETER[\"false_northing\",3280833.333333334,LENGTHUNIT[\"Foot_US\",0.3048006096012192]],PARAMETER[\"central_meridian\",-93.5,ANGLEUNIT[\"Degree\",0.0174532925199433]],PARAMETER[\"standard_parallel_1\",42.06666666666667,ANGLEUNIT[\"Degree\",0.0174532925199433]],PARAMETER[\"standard_parallel_2\",43.26666666666667,ANGLEUNIT[\"Degree\",0.0174532925199433]],PARAMETER[\"scale_factor\",1.0,SCALEUNIT[\"Unity\",1.0]],PARAMETER[\"latitude_of_origin\",41.5,ANGLEUNIT[\"Degree\",0.0174532925199433]]],CS[Cartesian,2],AXIS[\"Easting (X)\",east,ORDER[1]],AXIS[\"Northing (Y)\",north,ORDER[2]],LENGTHUNIT[\"Foot_US\",0.3048006096012192]]",
"wkt": "PROJCS[\"NAD83_Iowa_North_ft\",GEOGCS[\"GCS_Geographic Coordinate System\",DATUM[\"D_NORTH_AMERICAN_1983\",SPHEROID[\"GRS_1980\",6378137.0,298.257222101]],PRIMEM[\"Greenwich\",0.0],UNIT[\"Degree\",0.0174532925199433]],PROJECTION[\"Lambert_Conformal_Conic\"],PARAMETER[\"false_easting\",4921250.0],PARAMETER[\"false_northing\",3280833.333333334],PARAMETER[\"central_meridian\",-93.5],PARAMETER[\"standard_parallel_1\",42.06666666666667],PARAMETER[\"standard_parallel_2\",43.26666666666667],PARAMETER[\"scale_factor\",1.0],PARAMETER[\"latitude_of_origin\",41.5],UNIT[\"Foot_US\",0.3048006096012192]]"
}
},
"fullExtent": {
"xmin": 5621000.000264449,
"ymin": 3580431.0011709346,
"xmax": 5740374.999070679,
"ymax": 3698388.333324675,
"spatialReference": {
"wkt2": "PROJCRS[\"NAD83_Iowa_North_ft\",BASEGEOGCRS[\"GCS_Geographic Coordinate System\",DATUM[\"D_NORTH_AMERICAN_1983\",ELLIPSOID[\"GRS_1980\",6378137.0,298.257222101,LENGTHUNIT[\"Meter\",1.0]]],PRIMEM[\"Greenwich\",0.0,ANGLEUNIT[\"Degree\",0.0174532925199433]],CS[ellipsoidal,2],ANGLEUNIT[\"Degree\",0.0174532925199433]],CONVERSION[\"Lambert_Conformal_Conic\",METHOD[\"Lambert_Conformal_Conic\"],PARAMETER[\"false_easting\",4921250.0,LENGTHUNIT[\"Foot_US\",0.3048006096012192]],PARAMETER[\"false_northing\",3280833.333333334,LENGTHUNIT[\"Foot_US\",0.3048006096012192]],PARAMETER[\"central_meridian\",-93.5,ANGLEUNIT[\"Degree\",0.0174532925199433]],PARAMETER[\"standard_parallel_1\",42.06666666666667,ANGLEUNIT[\"Degree\",0.0174532925199433]],PARAMETER[\"standard_parallel_2\",43.26666666666667,ANGLEUNIT[\"Degree\",0.0174532925199433]],PARAMETER[\"scale_factor\",1.0,SCALEUNIT[\"Unity\",1.0]],PARAMETER[\"latitude_of_origin\",41.5,ANGLEUNIT[\"Degree\",0.0174532925199433]]],CS[Cartesian,2],AXIS[\"Easting (X)\",east,ORDER[1]],AXIS[\"Northing (Y)\",north,ORDER[2]],LENGTHUNIT[\"Foot_US\",0.3048006096012192]]",
"wkt": "PROJCS[\"NAD83_Iowa_North_ft\",GEOGCS[\"GCS_Geographic Coordinate System\",DATUM[\"D_NORTH_AMERICAN_1983\",SPHEROID[\"GRS_1980\",6378137.0,298.257222101]],PRIMEM[\"Greenwich\",0.0],UNIT[\"Degree\",0.0174532925199433]],PROJECTION[\"Lambert_Conformal_Conic\"],PARAMETER[\"false_easting\",4921250.0],PARAMETER[\"false_northing\",3280833.333333334],PARAMETER[\"central_meridian\",-93.5],PARAMETER[\"standard_parallel_1\",42.06666666666667],PARAMETER[\"standard_parallel_2\",43.26666666666667],PARAMETER[\"scale_factor\",1.0],PARAMETER[\"latitude_of_origin\",41.5],UNIT[\"Foot_US\",0.3048006096012192]]"
}
},
"sortableFields": "",
"bandCount": 3,
"pixelType": "U8",
"minValues": [
0,
0,
0
],
"maxValues": [
255,
255,
255
],
"meanValues": [
133.627826933763,
115.1178238301526,
84.13202238316394
],
"stdvValues": [
35.41917308265978,
32.79603542580182,
29.110399022267202
],
"serviceProperties": "NorthWest<\/MosaicMethod>First<\/MosaicOperator>true<\/SortAscending><\/LockImageID>Name<\/TileOrderField>0<\/TileOrderBase>600.000000<\/AvgImageSpacingX>300.000000<\/AvgImageSpacingY>0.0<\/ViewPointX>0.0<\/ViewPointY>0.0<\/ViewPointDefShiftX>0.0<\/ViewPointDefShiftY>None<\/CompressionMethod>75<\/CompressionQuality>0.010000<\/CompressionTolerance>Bilinear<\/SamplingMethod><\/ImageServiceProperties><\/ImageServer>",
"allowedFields": "Name,MinPS,MaxPS,LowPS,HighPS,Tag,GroupName,ProductName,CenterX,CenterY,ZOrder,Shape_Length,Shape_Area,Thumbnail",
"hasMultidimensions": false,
"pixelSizeX": 0.3333333299999436,
"pixelSizeY": 0.3333333299999444,
"meanPixelSize": 0.10160020218438733,
"datasetFormat": "AMD",
"uncompressedSize": 380191230000,
"blockWidth": 2048,
"blockHeight": 256,
"compressionType": "None",
"bandNames": [
"Band_1",
"Band_2",
"Band_3"
],
"allowCopy": true,
"allowAnalysis": true,
"itemAccess": false,
"inspectionCapabilities": "",
"minPixelSize": 0,
"maxPixelSize": 0,
"copyrightText": "Dubuque City and County Assessors Office funded this project.",
"serviceDataType": "esriImageServiceDataTypeRGB",
"serviceSourceType": "esriImageServiceSourceTypeMosaicDataset",
"objectIdField": "OBJECTID",
"fields": [
{
"name": "OBJECTID",
"type": "esriFieldTypeOID",
"alias": "OBJECTID",
"domain": null
},
{
"name": "Shape",
"type": "esriFieldTypeGeometry",
"alias": "Shape",
"domain": null
},
{
"name": "Name",
"type": "esriFieldTypeString",
"alias": "Name",
"domain": null,
"length": 50
},
{
"name": "MinPS",
"type": "esriFieldTypeDouble",
"alias": "MinPS",
"domain": null
},
{
"name": "MaxPS",
"type": "esriFieldTypeDouble",
"alias": "MaxPS",
"domain": null
},
{
"name": "LowPS",
"type": "esriFieldTypeDouble",
"alias": "LowPS",
"domain": null
},
{
"name": "HighPS",
"type": "esriFieldTypeDouble",
"alias": "HighPS",
"domain": null
},
{
"name": "Category",
"type": "esriFieldTypeInteger",
"alias": "Category",
"domain": {
"type": "codedValue",
"name": "MosaicCatalogItemCategoryDomain",
"description": "Catalog item categories.",
"codedValues": [
{
"name": "Unknown",
"code": 0
},
{
"name": "Primary",
"code": 1
},
{
"name": "Overview",
"code": 2
},
{
"name": "Unprocessed Overview",
"code": 3
},
{
"name": "Partial Overview",
"code": 4
},
{
"name": "Uploaded",
"code": 253
},
{
"name": "Incomplete",
"code": 254
},
{
"name": "Custom",
"code": 255
}
],
"mergePolicy": "esriMPTDefaultValue",
"splitPolicy": "esriSPTDefaultValue"
}
},
{
"name": "Tag",
"type": "esriFieldTypeString",
"alias": "Tag",
"domain": null,
"length": 20
},
{
"name": "GroupName",
"type": "esriFieldTypeString",
"alias": "GroupName",
"domain": null,
"length": 50
},
{
"name": "ProductName",
"type": "esriFieldTypeString",
"alias": "ProductName",
"domain": null,
"length": 50
},
{
"name": "CenterX",
"type": "esriFieldTypeDouble",
"alias": "CenterX",
"domain": null
},
{
"name": "CenterY",
"type": "esriFieldTypeDouble",
"alias": "CenterY",
"domain": null
},
{
"name": "ZOrder",
"type": "esriFieldTypeInteger",
"alias": "ZOrder",
"domain": null
},
{
"name": "Shape_Length",
"type": "esriFieldTypeDouble",
"alias": "Shape_Length",
"domain": null
},
{
"name": "Shape_Area",
"type": "esriFieldTypeDouble",
"alias": "Shape_Area",
"domain": null
}
],
"capabilities": "Catalog,Mensuration,Image,Metadata",
"defaultMosaicMethod": "Northwest",
"allowedMosaicMethods": "NorthWest,Center,LockRaster,ByAttribute,Nadir,Viewpoint,Seamline,None",
"sortField": "",
"sortValue": null,
"sortAscending": true,
"mosaicOperator": "First",
"maxDownloadSizeLimit": 2048,
"defaultCompressionQuality": 75,
"defaultResamplingMethod": "Bilinear",
"maxImageHeight": 4100,
"maxImageWidth": 15000,
"maxRecordCount": 1000,
"maxDownloadImageCount": 20,
"maxMosaicImageCount": 20,
"singleFusedMapCache": true,
"tileInfo": {
"rows": 256,
"cols": 256,
"dpi": 96,
"format": "PNG",
"compressionQuality": 0,
"origin": {
"x": -115419000,
"y": 1.4678289999999997E8
},
"spatialReference": {
"wkt2": "PROJCRS[\"NAD83_Iowa_North_ft\",BASEGEOGCRS[\"GCS_Geographic Coordinate System\",DATUM[\"D_NORTH_AMERICAN_1983\",ELLIPSOID[\"GRS_1980\",6378137.0,298.257222101,LENGTHUNIT[\"Meter\",1.0]]],PRIMEM[\"Greenwich\",0.0,ANGLEUNIT[\"Degree\",0.0174532925199433]],CS[ellipsoidal,2],ANGLEUNIT[\"Degree\",0.0174532925199433]],CONVERSION[\"Lambert_Conformal_Conic\",METHOD[\"Lambert_Conformal_Conic\"],PARAMETER[\"false_easting\",4921250.0,LENGTHUNIT[\"Foot_US\",0.3048006096012192]],PARAMETER[\"false_northing\",3280833.333333334,LENGTHUNIT[\"Foot_US\",0.3048006096012192]],PARAMETER[\"central_meridian\",-93.5,ANGLEUNIT[\"Degree\",0.0174532925199433]],PARAMETER[\"standard_parallel_1\",42.06666666666667,ANGLEUNIT[\"Degree\",0.0174532925199433]],PARAMETER[\"standard_parallel_2\",43.26666666666667,ANGLEUNIT[\"Degree\",0.0174532925199433]],PARAMETER[\"scale_factor\",1.0,SCALEUNIT[\"Unity\",1.0]],PARAMETER[\"latitude_of_origin\",41.5,ANGLEUNIT[\"Degree\",0.0174532925199433]]],CS[Cartesian,2],AXIS[\"Easting (X)\",east,ORDER[1]],AXIS[\"Northing (Y)\",north,ORDER[2]],LENGTHUNIT[\"Foot_US\",0.3048006096012192]]",
"wkt": "PROJCS[\"NAD83_Iowa_North_ft\",GEOGCS[\"GCS_Geographic Coordinate System\",DATUM[\"D_NORTH_AMERICAN_1983\",SPHEROID[\"GRS_1980\",6378137.0,298.257222101]],PRIMEM[\"Greenwich\",0.0],UNIT[\"Degree\",0.0174532925199433]],PROJECTION[\"Lambert_Conformal_Conic\"],PARAMETER[\"false_easting\",4921250.0],PARAMETER[\"false_northing\",3280833.333333334],PARAMETER[\"central_meridian\",-93.5],PARAMETER[\"standard_parallel_1\",42.06666666666667],PARAMETER[\"standard_parallel_2\",43.26666666666667],PARAMETER[\"scale_factor\",1.0],PARAMETER[\"latitude_of_origin\",41.5],UNIT[\"Foot_US\",0.3048006096012192]]"
},
"lods": [
{
"level": 0,
"resolution": 434.02777777777777,
"scale": 500000
},
{
"level": 1,
"resolution": 217.01388888888889,
"scale": 250000
},
{
"level": 2,
"resolution": 108.50694444444444,
"scale": 125000
},
{
"level": 3,
"resolution": 55.55555555555555,
"scale": 64000
},
{
"level": 4,
"resolution": 27.777777777777775,
"scale": 32000
},
{
"level": 5,
"resolution": 13.888888888888888,
"scale": 16000
},
{
"level": 6,
"resolution": 6.944444444444444,
"scale": 8000
},
{
"level": 7,
"resolution": 3.472222222222222,
"scale": 4000
},
{
"level": 8,
"resolution": 1.736111111111111,
"scale": 2000
},
{
"level": 9,
"resolution": 0.8680555555555555,
"scale": 1000
}
]
},
"storageInfo": {
"storageFormat": "esriMapCacheStorageModeCompactV2",
"packetSize": 128
},
"cacheType": "Map",
"allowRasterFunction": true,
"rasterFunctionInfos": [
{
"name": "None",
"description": "",
"help": ""
}
],
"rasterTypeInfos": [
{
"name": "Raster Dataset",
"description": "Supports all ArcGIS Raster Datasets",
"help": ""
}
],
"mensurationCapabilities": "Basic",
"hasHistograms": true,
"hasColormap": false,
"hasRasterAttributeTable": false,
"minScale": 0,
"maxScale": 0,
"minLOD": 0,
"maxLOD": 9,
"exportTilesAllowed": false,
"supportsStatistics": true,
"supportsAdvancedQueries": true,
"editFieldsInfo": null,
"ownershipBasedAccessControlForRasters": null,
"allowComputeTiePoints": false,
"useStandardizedQueries": true,
"advancedQueryCapabilities": {
"useStandardizedQueries": true,
"supportsStatistics": true,
"supportsOrderBy": true,
"supportsDistinct": true,
"supportsPagination": true
},
"spatialReference": {
"wkt2": "PROJCRS[\"NAD83_Iowa_North_ft\",BASEGEOGCRS[\"GCS_Geographic Coordinate System\",DATUM[\"D_NORTH_AMERICAN_1983\",ELLIPSOID[\"GRS_1980\",6378137.0,298.257222101,LENGTHUNIT[\"Meter\",1.0]]],PRIMEM[\"Greenwich\",0.0,ANGLEUNIT[\"Degree\",0.0174532925199433]],CS[ellipsoidal,2],ANGLEUNIT[\"Degree\",0.0174532925199433]],CONVERSION[\"Lambert_Conformal_Conic\",METHOD[\"Lambert_Conformal_Conic\"],PARAMETER[\"false_easting\",4921250.0,LENGTHUNIT[\"Foot_US\",0.3048006096012192]],PARAMETER[\"false_northing\",3280833.333333334,LENGTHUNIT[\"Foot_US\",0.3048006096012192]],PARAMETER[\"central_meridian\",-93.5,ANGLEUNIT[\"Degree\",0.0174532925199433]],PARAMETER[\"standard_parallel_1\",42.06666666666667,ANGLEUNIT[\"Degree\",0.0174532925199433]],PARAMETER[\"standard_parallel_2\",43.26666666666667,ANGLEUNIT[\"Degree\",0.0174532925199433]],PARAMETER[\"scale_factor\",1.0,SCALEUNIT[\"Unity\",1.0]],PARAMETER[\"latitude_of_origin\",41.5,ANGLEUNIT[\"Degree\",0.0174532925199433]]],CS[Cartesian,2],AXIS[\"Easting (X)\",east,ORDER[1]],AXIS[\"Northing (Y)\",north,ORDER[2]],LENGTHUNIT[\"Foot_US\",0.3048006096012192]]",
"wkt": "PROJCS[\"NAD83_Iowa_North_ft\",GEOGCS[\"GCS_Geographic Coordinate System\",DATUM[\"D_NORTH_AMERICAN_1983\",SPHEROID[\"GRS_1980\",6378137.0,298.257222101]],PRIMEM[\"Greenwich\",0.0],UNIT[\"Degree\",0.0174532925199433]],PROJECTION[\"Lambert_Conformal_Conic\"],PARAMETER[\"false_easting\",4921250.0],PARAMETER[\"false_northing\",3280833.333333334],PARAMETER[\"central_meridian\",-93.5],PARAMETER[\"standard_parallel_1\",42.06666666666667],PARAMETER[\"standard_parallel_2\",43.26666666666667],PARAMETER[\"scale_factor\",1.0],PARAMETER[\"latitude_of_origin\",41.5],UNIT[\"Foot_US\",0.3048006096012192]]"
},
"resampling": false
}