{
 "currentVersion": 11.5,
 "serviceDescription": "This data represents a panchromatic county orthophoto mosaic in MrSID image format produced from black and white aerial photographs of a particular Iowa county. This county mosaic was developed from individual aerial images taken during the 1970s by the Agricultural Stabilization and Conservation Service, part of the US Department of Agriculture. The images were originally photographed at 1:20,000 scale, were digitally scanned from hardcopy prints at various scales and from various sources, and for this purpose were cast on the Universal Transverse Mercator Projection (UTM) on the North American Datum of 1983 (NAD83). These are wavelet-compressed raster format images at a resolution of 1 meter.",
 "serviceItemId": "c91a1d79b5214362b48bb8aeb9bfd500",
 "name": "Imagery/DubuqueCounty1970s",
 "description": "This data represents a panchromatic county orthophoto mosaic in MrSID image format produced from black and white aerial photographs of a particular Iowa county. This county mosaic was developed from individual aerial images taken during the 1970s by the Agricultural Stabilization and Conservation Service, part of the US Department of Agriculture. The images were originally photographed at 1:20,000 scale, were digitally scanned from hardcopy prints at various scales and from various sources, and for this purpose were cast on the Universal Transverse Mercator Projection (UTM) on the North American Datum of 1983 (NAD83). These are wavelet-compressed raster format images at a resolution of 1 meter.",
 "extent": {
  "xmin": 652674,
  "ymin": 4684100,
  "xmax": 708727,
  "ymax": 4727453,
  "spatialReference": {
   "wkid": 26915,
   "latestWkid": 26915
  }
 },
 "initialExtent": {
  "xmin": 652674,
  "ymin": 4684100,
  "xmax": 708727,
  "ymax": 4727453,
  "spatialReference": {
   "wkid": 26915,
   "latestWkid": 26915
  }
 },
 "fullExtent": {
  "xmin": 652674,
  "ymin": 4684100,
  "xmax": 708727,
  "ymax": 4727453,
  "spatialReference": {
   "wkid": 26915,
   "latestWkid": 26915
  }
 },
 "sortableFields": "",
 "bandCount": 1,
 "pixelType": "U8",
 "minValues": [
  0
 ],
 "maxValues": [
  255
 ],
 "meanValues": [
  106.86497464789336
 ],
 "stdvValues": [
  57.31586036489419
 ],
 "serviceProperties": "Center<\/MosaicMethod>First<\/MosaicOperator>true<\/SortAscending><\/LockImageID><\/TileOrderField>0<\/TileOrderBase>0.000000<\/AvgImageSpacingX>0.000000<\/AvgImageSpacingY>0.0<\/ViewPointX>0.0<\/ViewPointY>0.0<\/ViewPointDefShiftX>0.0<\/ViewPointDefShiftY>None<\/CompressionMethod>75<\/CompressionQuality>0.010000<\/CompressionTolerance>Bilinear<\/SamplingMethod><\/ImageServiceProperties><\/ImageServer>",
 "allowedFields": "",
 "hasMultidimensions": false,
 "pixelSizeX": 1,
 "pixelSizeY": 1,
 "meanPixelSize": 1,
 "datasetFormat": "FGDBR",
 "uncompressedSize": 2430065709,
 "blockWidth": 128,
 "blockHeight": 128,
 "compressionType": "LZ77",
 "bandNames": [
  "Band_1"
 ],
 "allowCopy": true,
 "allowAnalysis": true,
 "itemAccess": false,
 "inspectionCapabilities": "",
 "minPixelSize": 0,
 "maxPixelSize": 0,
 "copyrightText": "",
 "serviceDataType": "esriImageServiceDataTypeGeneric",
 "serviceSourceType": "esriImageServiceSourceTypeDataset",
 "objectIdField": "",
 "fields": [],
 "capabilities": "Mensuration,Image,Metadata",
 "defaultMosaicMethod": "Center",
 "allowedMosaicMethods": "",
 "sortField": "",
 "sortValue": null,
 "sortAscending": true,
 "mosaicOperator": "First",
 "defaultCompressionQuality": 75,
 "defaultResamplingMethod": "Bilinear",
 "maxImageHeight": 4100,
 "maxImageWidth": 15000,
 "allowRasterFunction": true,
 "rasterFunctionInfos": [
  {
   "name": "None",
   "description": "",
   "help": ""
  }
 ],
 "rasterTypeInfos": [
  {
   "name": "Raster Dataset",
   "description": "Supports all ArcGIS Raster Datasets",
   "help": ""
  }
 ],
 "mensurationCapabilities": "Basic",
 "hasHistograms": true,
 "hasColormap": false,
 "hasRasterAttributeTable": false,
 "minScale": 0,
 "maxScale": 0,
 "exportTilesAllowed": false,
 "supportsStatistics": false,
 "supportsAdvancedQueries": false,
 "editFieldsInfo": null,
 "ownershipBasedAccessControlForRasters": null,
 "allowComputeTiePoints": false,
 "useStandardizedQueries": true,
 "advancedQueryCapabilities": {
  "useStandardizedQueries": true,
  "supportsStatistics": false,
  "supportsOrderBy": false,
  "supportsDistinct": false,
  "supportsPagination": false
 },
 "spatialReference": {
  "wkid": 26915,
  "latestWkid": 26915
 },
 "resampling": false
}
