<?xml version="1.0" encoding="UTF-8" standalone="no"?>
<metadata xml:lang="en">
<idinfo>
<citation>
<citeinfo>
<origin>
</origin>
<title>1960's Digital Orthorectified Image of Dubuque County, Iowa, in MrSid Format</title>
<geoform Sync="TRUE">raster digital data</geoform>
<serinfo>
<sername>Historic Aerial Photography</sername>
<issue>1960s</issue>
</serinfo>
<pubinfo>
<pubplace>Iowa City, Iowa</pubplace>
<publish>Iowa Department of Natural Resources</publish>
</pubinfo>
<othercit>Zip file contains other files pertinent to this dataset</othercit>
<onlink>ftp://ftp.igsb.uiowa.edu/gis_library/counties/Dubuque/1960s_airphotos_31.sid</onlink>
<onlink>ftp://ftp.igsb.uiowa.edu/gis_library/counties/Dubuque/1960s_airphotos_31.zip</onlink>
<ftname Sync="TRUE">1960s_airphotos_31.sid</ftname>
</citeinfo>
</citation>
<descript>
<abstract>DubuqueCounty1960s</abstract>
<purpose>
Orthophotos combine the image characteristics of a photograph with the geometric qualities of a map. Digital orthophotos serve a variety of purposes, from interim maps to references for earth science investigations. The images are useful as a layer of a geographic information system and as a tool for revision of digital graphs and topographic maps. This data set is particularly useful to indicate the historic usage and condition of the land. This digital, geographically referenced data set was developed by the Iowa Department of Natural Resources to carry out agency responsibilities related to management, protection, and development of Iowa's natural resources.
</purpose>
<langdata Sync="TRUE">en</langdata>
</descript>
<timeperd>
<timeinfo>
<sngdate>
<caldate>1964</caldate>
</sngdate>
</timeinfo>
<current>ground condition</current>
</timeperd>
<status>
<progress>Complete</progress>
<update>As needed</update>
</status>
<spdom>
<bounding>
<westbc Sync="TRUE">-91.189390</westbc>
<eastbc Sync="TRUE">-90.433132</eastbc>
<northbc Sync="TRUE">42.695881</northbc>
<southbc Sync="TRUE">42.272989</southbc>
</bounding>
<lboundng>
<leftbc Sync="TRUE">649277.000000</leftbc>
<rightbc Sync="TRUE">710304.000000</rightbc>
<bottombc Sync="TRUE">4683236.000000</bottombc>
<topbc Sync="TRUE">4728654.000000</topbc>
</lboundng>
</spdom>
<keywords>
<theme>
<themekt>none</themekt>
<themekey>aerial photography</themekey>
<themekey>county mosaic</themekey>
<themekey>digital orthophotgraphy</themekey>
<themekey>digital image map</themekey>
</theme>
<theme>
<themekt>ISO 19115 Topic Category</themekt>
<themekey>imageryBaseMapsEarthCover</themekey>
</theme>
<place>
<placekt>GNIS</placekt>
<placekey>Dubuque County, Iowa</placekey>
</place>
<temporal>
<tempkt>None</tempkt>
<tempkey>1960s</tempkey>
</temporal>
</keywords>
<accconst>None</accconst>
<useconst>The development of the coverages in the NRGIS Library represents a major investment of staff time and effort. As a professional responsibility, the Iowa DNR expects to receive proper credit when these GIS coverages are utilized. The Department also expects that the original documentation will remain with any redistribution of these coverages.</useconst>
<ptcontac>
<cntinfo>
<cntperp>
<cntper>Kathryne Clark</cntper>
<cntorg>Iowa Department of Natural Resources</cntorg>
</cntperp>
<cntpos>GIS Analyst</cntpos>
<cntaddr>
<addrtype>mailing and physical address</addrtype>
<address>Wallace State Office Building</address>
<city>Des Moines</city>
<state>IA</state>
<postal>50319</postal>
</cntaddr>
<cntvoice>(515) 281-4583</cntvoice>
<cntemail>kclark@dnr.state.ia.us</cntemail>
</cntinfo>
</ptcontac>
<datacred>Partial funding for the development of this data was received from the Iowa DNR's Brownfields program, which receives funding from the USEPA, and the State Historical Society.
A majority of the scanning was conducted by Ryan Forman (IGWS), but also by Gregg Hadish (NRCS), as well as DOT and ISU GIS staff.
Orthorectification was carried out by Cody Hackney, Danny Harpenau, Patrick Knapp, Michael Palermo, and Zeb Squires.
Project coordination was done by Andy Asell.</datacred>
<secinfo>
<secsys>State of Iowa Enterprise Data Classification Standard</secsys>
<secclass>Public</secclass>
</secinfo>
<native Sync="FALSE">ESRI ArcCatalog 9.3.1.3000</native>
<crossref>
<citeinfo>
<origin>GIS Section, IGWS, DNR</origin>
<pubdate>Unpublished Material</pubdate>
<title>Geodatabase of image centroids</title>
<geoform>geodatabase</geoform>
<othercit>Working geodatabase developed by Andy Asell of the GIS Section to support the process of scanning and rectifying 1960s photography.</othercit>
</citeinfo>
</crossref>
<natvform Sync="TRUE">Raster Dataset</natvform>
</idinfo>
<dataqual>
<attracc>
<attraccr>Image brightness values may deviate from brightness values of original imagery due to image value interpolation during scanning, rectification, and mosaicking processes. Contrast and brightness differences are normalized during the mosaic process to produce a more consistent appearance. In some cases, imagery from significantly different dates (usually within a year of each other) make up a single county, lending a somewhat discontinuous appearance.</attraccr>
</attracc>
<logic>This collection represents conditions in the state of Iowa in the 1960s. Imagery were collected on a county-by-county basis. Within a county, usually the entire county was collected within a narrow time frame, but in some instances, perhaps due to poor image quality or lack of coverage, areas were reflown at a later time. Between counties there is less consistency, because flight times were variable, and may have occurred in different years. Different contractors, aircraft, cameras, and procedures were used, producing variations in quality.</logic>
<complete>Imagery from this time period is available for the entire state. Not all counties may be completed at this time</complete>
<posacc>
<horizpa>
<horizpar>
No formal positional accuracy assessment has been done. However, many factors apply to the accuracy of this data:
The horizontal positional accuracy and the assurance of that accuracy depend, in part, on the accuracy of the data inputs to the rectification process. These inputs consist of the digital elevation model (DEM),aerotriangulation control and methods, the photo source camera calibration, scanner calibration, and aerial photographs that meet National Aerial Photography Program (NAPP) standards. The vertical accuracy of the verified USGS format DEM is equivalent to or better than a USGS level 1 or 2 DEM, with a root mean square error (RMSE) of no greater than 7.0 meters.
Horizontal control was derived from the 1990s DOQQs. Vertical control from the 10 meter USGS DEM, derived from the 1:24,000 topographic map series contours.
The process of collecting control points from historical imagery is intrisically fraught with difficulty. Man made features, especially road intersections, are the best control points, yet nearly every one of these features has changed in some way in the intervening time period, some significantly, which can reduce the accuracy of these points, and hence of the entire rectification process. This problem becomes exacerbated in areas where there are fewer good control points, such as in many counties near the Mississippi River.
</horizpar>
</horizpa>
</posacc>
<lineage>
<srcinfo>
<srccite>
<citeinfo>
<title>University of Iowa Map Collection</title>
<origin>University of Iowa Map Collection</origin>
<othercit>Primary source of Photography</othercit>
<onlink>http://www.lib.uiowa.edu/maps/</onlink>
</citeinfo>
</srccite>
<srcscale>20,000 on film</srcscale>
<typesrc>Photographic prints on paper</typesrc>
<srctime>
<timeinfo>
<rngdates>
<begdate>1960</begdate>
<enddate>1964</enddate>
</rngdates>
</timeinfo>
<srccurr>ground condition</srccurr>
</srctime>
<srccontr>Panchromatic black and white aerial photographs.</srccontr>
</srcinfo>
<srcinfo>
<srccite>
<citeinfo>
<origin>Counry Engineers Office of certain Iowa Counties</origin>
<title>County Engineer Records</title>
<othercit>Secondary source on some counties.</othercit>
</citeinfo>
</srccite>
</srcinfo>
<srcinfo>
<srccite>
<citeinfo>
<origin>Agricultural Stabilization and Conservation Service</origin>
<pubdate>Unknown</pubdate>
<title>Aerial Photography Program</title>
<geoform>hard-copy aerial photographs</geoform>
<othercit>Secondary source of photography on some counties</othercit>
</citeinfo>
</srccite>
<srctime>
<timeinfo>
<sngdate>
<caldate>1963</caldate>
</sngdate>
</timeinfo>
<srccurr>ground condition</srccurr>
</srctime>
</srcinfo>
<procstep>
<procdesc>The photos were collected from a variety of sources. The files of the University of Iowa Map Library were the primary sources. Images not available from these sources were located elsewhere, including the Iowa Department of Transportation and the Natural Resources Conservation Service and the National Archives.
Photo restoration was done prior to scanning. This involved erasing grease-pencil notation markings made on the photos.
All scanning was done at 600 dpi on a high quality scanner.
An orthorectification process was utilized, using the Leica Photogrammetry Suite. This photogrammetric approach utilizes a block adjustment approach, and reuses control points on neighboring images to minimize displacement at photo edges. Along with control points, tie points were used to more seamlessly connect neighboring images together
Rectified images are resampled to a spatial resolution of 1 meter, then clipped to remove edges, header and fiducial marks, before being mosaicked into full county mosaics, and compressed into MrSid format.
The mosaic process was performed with the Inpho OrthoVista software. All images for a single county were brought to a common brightness and contrast, then mosaicked using adaptive feathering.</procdesc>
<procdate>2009</procdate>
<proccont>
<cntinfo>
<cntperp>
<cntper>Cody Hackney</cntper>
<cntorg>Iowa DNR, GIS Section</cntorg>
</cntperp>
<cntpos>GIS technician</cntpos>
<cntvoice>(319) 335-1575</cntvoice>
<cntemail>cody.hackney@dnr.iowa.gov</cntemail>
</cntinfo>
</proccont>
</procstep>
</lineage>
<cloud>minimal</cloud>
</dataqual>
<spdoinfo>
<direct Sync="TRUE">Raster</direct>
<rastinfo>
<rasttype Sync="TRUE">Pixel</rasttype>
<rowcount Sync="TRUE">45418</rowcount>
<colcount Sync="TRUE">61027</colcount>
<vrtcount Sync="TRUE">1</vrtcount>
<rastxsz Sync="TRUE">1.000000</rastxsz>
<rastysz Sync="TRUE">1.000000</rastysz>
<rastbpp Sync="TRUE">8</rastbpp>
<rastorig Sync="TRUE">Upper Left</rastorig>
<rastcmap Sync="TRUE">FALSE</rastcmap>
<rastcomp Sync="TRUE">LZ77</rastcomp>
<rastband Sync="TRUE">1</rastband>
<rastdtyp Sync="TRUE">pixel codes</rastdtyp>
<rastifor Sync="TRUE">FGDBR</rastifor>
<rastplyr Sync="TRUE">TRUE</rastplyr>
</rastinfo>
</spdoinfo>
<spref>
<horizsys>
<planar>
<planci>
<plance Sync="TRUE">row and column</plance>
<coordrep>
<absres Sync="TRUE">1.000000</absres>
<ordres Sync="TRUE">1.000000</ordres>
</coordrep>
<plandu Sync="TRUE">meters</plandu>
</planci>
</planar>
<geodetic>
<horizdn Sync="TRUE">North American Datum of 1983</horizdn>
<ellips Sync="TRUE">Geodetic Reference System 80</ellips>
<semiaxis Sync="TRUE">6378137.000000</semiaxis>
<denflat Sync="TRUE">298.257222</denflat>
</geodetic>
<cordsysn>
<geogcsn Sync="TRUE">GCS_North_American_1983</geogcsn>
<projcsn Sync="TRUE">NAD_1983_UTM_Zone_15N</projcsn>
</cordsysn>
</horizsys>
</spref>
<eainfo>
<detailed Name="Band_1">
<enttyp>
<enttypl Sync="TRUE">Band_1</enttypl>
</enttyp>
<attr>
<attrlabl Sync="TRUE">ObjectID</attrlabl>
<attrdef Sync="TRUE">Internal feature number.</attrdef>
<attrdefs Sync="TRUE">ESRI</attrdefs>
<attrdomv>
<udom Sync="TRUE">Sequential unique whole numbers that are automatically generated.</udom>
</attrdomv>
</attr>
<attr>
<attrlabl Sync="TRUE">Value</attrlabl>
</attr>
<attr>
<attrlabl Sync="TRUE">Count</attrlabl>
</attr>
</detailed>
<enttyp>
<enttypl Sync="TRUE">
</enttypl>
</enttyp>
<attr>
<attrlabl Sync="TRUE">ObjectID</attrlabl>
<attrdef Sync="TRUE">Internal feature number.</attrdef>
<attrdefs Sync="TRUE">ESRI</attrdefs>
<attrdomv>
<udom Sync="TRUE">Sequential unique whole numbers that are automatically generated.</udom>
</attrdomv>
</attr>
<attr>
<attrlabl Sync="TRUE">Value</attrlabl>
</attr>
<attr>
<attrlabl Sync="TRUE">Count</attrlabl>
</attr>
</eainfo>
<distinfo>
<distrib>
<cntinfo>
<cntorgp>
<cntorg>Iowa State University GIS Lab</cntorg>
</cntorgp>
</cntinfo>
</distrib>
<resdesc>Live Data and Maps</resdesc>
<stdorder>
<digform>
<digtinfo>
<transize>130.896</transize>
</digtinfo>
<digtopt>
<onlinopt>
<computer>
<networka>
<networkr>http://cairo.gis.iastate.edu</networkr>
</networka>
</computer>
</onlinopt>
</digtopt>
</digform>
</stdorder>
</distinfo>
<distinfo>
<distrib>
<cntinfo>
<cntorgp>
<cntorg>Iowa Department of Natural Resources</cntorg>
</cntorgp>
<cntpos>IMS Administrator</cntpos>
<cntvoice>515-281-5843</cntvoice>
</cntinfo>
</distrib>
<resdesc>Live Data and Maps</resdesc>
<distliab>Although efforts have been made in correcting errors in order to make this information useful to the Department, the Department assumes no responsibility for errors in the information. Similarly, the Department assumes no responsibility for the consequences of inappropriate uses or interpretations of the data made by anyone to whom this data has been made available. The Department bears no responsibility to inform users of any changes made to this data. Anyone using this data is advised that precision implied by the coverage may far exceed actual precision. Comments on this data are invited and the Department would appreciate that documented errors be brought to staff attention.</distliab>
<stdorder>
<digform>
<digtinfo>
<transize>130.896</transize>
</digtinfo>
<digtopt>
<onlinopt>
<computer>
<networka>
<networkr>http://www.iowadnr.gov/</networkr>
</networka>
</computer>
<accinstr>Go to "Mapping (GIS Interactive)" on the left-hand menu, then to the Basic Map</accinstr>
</onlinopt>
</digtopt>
</digform>
</stdorder>
</distinfo>
<distinfo>
<distrib>
<cntinfo>
<cntorgp>
<cntorg>Iowa Geological and Water Survey - IDNR</cntorg>
</cntorgp>
<cntpos>GeoSpatial DBA / NRGIS Librarian</cntpos>
<cntaddr>
<addrtype>mailing and physical address</addrtype>
<address>109 Trowbridge Hall</address>
<city>Iowa City</city>
<state>IA</state>
<postal>52242</postal>
</cntaddr>
<cntvoice>319-335-1575</cntvoice>
<cntemail>gis_library@igsb.uiowa.edu</cntemail>
</cntinfo>
</distrib>
<resdesc>Downloadable Data</resdesc>
<distliab>Although efforts have been made in correcting errors in order to make this information useful to the Department, the Department assumes no responsibility for errors in the information. Similarly, the Department assumes no responsibility for the consequences of inappropriate uses or interpretations of the data made by anyone to whom this data has been made available. The Department bears no responsibility to inform users of any changes made to this data. Anyone using this data is advised that precision implied by the coverage may far exceed actual precision. Comments on this data are invited and the Department would appreciate that documented errors be brought to staff attention.</distliab>
<stdorder>
<digform>
<digtinfo>
<formname>MrSid Image</formname>
<formcont>Image file and zip file which contains ancillary files</formcont>
<filedec>zip</filedec>
<transize Sync="TRUE">130.896</transize>
</digtinfo>
<digtopt>
<onlinopt>
<computer>
<networka>
<networkr>ftp://ftp.igsb.uiowa.edu/gis_library/counties/Dubuque/1960s_airphotos_31.sid</networkr>
<networkr>ftp://ftp.igsb.uiowa.edu/gis_library/counties/Dubuque/1960s_airphotos_31.zip</networkr>
</networka>
</computer>
</onlinopt>
</digtopt>
</digform>
<fees>None</fees>
<ordering>Click on anonymous FTP link provided.</ordering>
<turnarnd>Immediate</turnarnd>
</stdorder>
<availabl>
<timeinfo>
<mdattim>
<sngdate>
<caldate>365 days/year</caldate>
<time>24 hrs/day</time>
</sngdate>
</mdattim>
</timeinfo>
</availabl>
</distinfo>
<metainfo>
<metrd>20090928</metrd>
<metc>
<cntinfo>
<cntorgp>
<cntorg>Iowa Geological and Water Survey, DNR</cntorg>
<cntper>NRGIS Librarian</cntper>
</cntorgp>
<cntaddr>
<addrtype>mailing and physical address</addrtype>
<address>109 Trowbridge Hall</address>
<city>Iowa City</city>
<state>IA</state>
<postal>52242</postal>
</cntaddr>
<cntvoice>319-335-1575</cntvoice>
<cntemail>gis_library@igsb.uiowa.edu</cntemail>
<hours>0800-1630 CDT CST</hours>
</cntinfo>
</metc>
<metstdn Sync="TRUE">FGDC Content Standards for Digital Geospatial Metadata</metstdn>
<metstdv Sync="TRUE">FGDC-STD-001-1998</metstdv>
<mettc Sync="TRUE">local time</mettc>
<metac>None</metac>
<metuc>None</metuc>
<metd Sync="TRUE">20090928</metd>
<langmeta Sync="TRUE">en</langmeta>
</metainfo>
<Esri>
<ModDate>20140415</ModDate>
<ModTime>14285100</ModTime>
<SyncDate>20140415</SyncDate>
<SyncTime>14285100</SyncTime>
<DataProperties>
<itemProps>
<itemName Sync="TRUE">DubuqueCounty1960s</itemName>
<imsContentType Sync="TRUE">002</imsContentType>
<nativeExtBox>
<westBL Sync="TRUE">649277.000000</westBL>
<eastBL Sync="TRUE">710304.000000</eastBL>
<southBL Sync="TRUE">4683236.000000</southBL>
<northBL Sync="TRUE">4728654.000000</northBL>
<exTypeCode Sync="TRUE">1</exTypeCode>
</nativeExtBox>
</itemProps>
<coordRef>
<type Sync="TRUE">Projected</type>
<geogcsn Sync="TRUE">GCS_North_American_1983</geogcsn>
<projcsn Sync="TRUE">NAD83_UTM_zone_15N</projcsn>
<peXml Sync="TRUE">&lt;ProjectedCoordinateSystem xsi:type='typens:ProjectedCoordinateSystem' xmlns:xsi='http://www.w3.org/2001/XMLSchema-instance' xmlns:xs='http://www.w3.org/2001/XMLSchema' xmlns:typens='http://www.esri.com/schemas/ArcGIS/10.1'&gt;&lt;WKT&gt;PROJCS[&amp;quot;NAD83_UTM_zone_15N&amp;quot;,GEOGCS[&amp;quot;GCS_North_American_1983&amp;quot;,DATUM[&amp;quot;D_North_American_1983&amp;quot;,SPHEROID[&amp;quot;GRS_1980&amp;quot;,6378137.0,298.257222101]],PRIMEM[&amp;quot;Greenwich&amp;quot;,0.0],UNIT[&amp;quot;Degree&amp;quot;,0.0174532925199433]],PROJECTION[&amp;quot;Transverse_Mercator&amp;quot;],PARAMETER[&amp;quot;false_easting&amp;quot;,500000.0],PARAMETER[&amp;quot;false_northing&amp;quot;,0.0],PARAMETER[&amp;quot;central_meridian&amp;quot;,-93.0],PARAMETER[&amp;quot;scale_factor&amp;quot;,0.9996],PARAMETER[&amp;quot;latitude_of_origin&amp;quot;,0.0],UNIT[&amp;quot;Meter&amp;quot;,1.0]]&lt;/WKT&gt;&lt;XOrigin&gt;-5120900&lt;/XOrigin&gt;&lt;YOrigin&gt;-9998100&lt;/YOrigin&gt;&lt;XYScale&gt;450445547.3910538&lt;/XYScale&gt;&lt;ZOrigin&gt;-100000&lt;/ZOrigin&gt;&lt;ZScale&gt;10000&lt;/ZScale&gt;&lt;MOrigin&gt;-100000&lt;/MOrigin&gt;&lt;MScale&gt;10000&lt;/MScale&gt;&lt;XYTolerance&gt;0.001&lt;/XYTolerance&gt;&lt;ZTolerance&gt;0.001&lt;/ZTolerance&gt;&lt;MTolerance&gt;0.001&lt;/MTolerance&gt;&lt;HighPrecision&gt;true&lt;/HighPrecision&gt;&lt;/ProjectedCoordinateSystem&gt;</peXml>
<csUnits Sync="TRUE">Linear Unit: Meter (1.000000)</csUnits>
</coordRef>
</DataProperties>
<Service Sync="TRUE">DubuqueCounty1960s</Service>
<ServiceType Sync="TRUE">image</ServiceType>
</Esri>
<mdDateSt Sync="TRUE">20140415</mdDateSt>
<dataIdInfo>
<envirDesc Sync="FALSE">Esri ArcGIS 10.2.1.3497</envirDesc>
<dataLang>
<languageCode Sync="TRUE" country="USA" value="eng">
</languageCode>
<countryCode Sync="TRUE" value="USA">
</countryCode>
</dataLang>
<idCitation>
<resTitle Sync="TRUE">DubuqueCounty1960s</resTitle>
<presForm>
<PresFormCd Sync="TRUE" value="011">
</PresFormCd>
</presForm>
</idCitation>
<spatRpType>
<SpatRepTypCd Sync="TRUE" value="002">
</SpatRepTypCd>
</spatRpType>
<dataExt>
<geoEle>
<GeoBndBox esriExtentType="search">
<westBL Sync="TRUE">-91.189390</westBL>
<eastBL Sync="TRUE">-90.433132</eastBL>
<northBL Sync="TRUE">42.695881</northBL>
<southBL Sync="TRUE">42.272989</southBL>
<exTypeCode Sync="TRUE">1</exTypeCode>
</GeoBndBox>
</geoEle>
</dataExt>
<geoBox esriExtentType="decdegrees">
<westBL Sync="TRUE">-91.18939</westBL>
<eastBL Sync="TRUE">-90.433132</eastBL>
<northBL Sync="TRUE">42.695881</northBL>
<southBL Sync="TRUE">42.272989</southBL>
<exTypeCode Sync="TRUE">1</exTypeCode>
</geoBox>
<descKeys>
<thesaName uuidref="723f6998-058e-11dc-8314-0800200c9a66">
</thesaName>
<keyword Sync="TRUE">002</keyword>
</descKeys>
<idAbs>DubuqueCounty1960s</idAbs>
<searchKeys>
<keyword>002</keyword>
</searchKeys>
<idPurp>Orthophotos combine the image characteristics of a photograph with the geometric qualities of a map. Digital orthophotos serve a variety of purposes, from...</idPurp>
<idCredit/>
<resConst>
<Consts>
<useLimit/>
</Consts>
</resConst>
</dataIdInfo>
<mdLang>
<languageCode Sync="TRUE" value="eng">
</languageCode>
<countryCode Sync="TRUE" value="USA">
</countryCode>
</mdLang>
<mdStanName Sync="TRUE">ISO 19115 Geographic Information - Metadata</mdStanName>
<mdStanVer Sync="TRUE">DIS_ESRI1.0</mdStanVer>
<mdChar>
<CharSetCd Sync="TRUE" value="004">
</CharSetCd>
</mdChar>
<mdHrLv>
<ScopeCd Sync="TRUE" value="005">
</ScopeCd>
</mdHrLv>
<mdHrLvName Sync="TRUE">dataset</mdHrLvName>
<distInfo>
<distributor>
<distorTran>
<onLineSrc>
<linkage Sync="FALSE">withheld</linkage>
<protocol Sync="TRUE">Local Area Network</protocol>
<orDesc Sync="TRUE">002</orDesc>
</onLineSrc>
</distorTran>
<distorFormat>
<formatName Sync="TRUE">Raster Dataset</formatName>
</distorFormat>
</distributor>
<distFormat>
<formatName Sync="TRUE">File Geodatabase Raster Dataset</formatName>
</distFormat>
</distInfo>
<refSysInfo>
<RefSystem>
<refSysID>
<identCode Sync="TRUE" code="0" value="0">NAD_1983_UTM_Zone_15N</identCode>
</refSysID>
</RefSystem>
</refSysInfo>
</metadata>
