{
 "currentVersion": 11.5,
 "serviceDescription": "This data set contains imagery from the National\nAgriculture Imagery Program (NAIP). The NAIP\nacquires 4-band digital ortho imagery from airbourne\nand/or space based platforms during the agricultural\ngrowing seasons in the U.S.. A primary goal of the\nNAIP program is to enable availability of ortho imagery\nwithin sixty days of acquisition. The NAIP provides\n1 meter GSD ortho imagery rectified within +/- 6 meters to\ntrue ground at a 95% confidence level. The tiling format\nof NAIP imagery is based on a 3.75' x 3.75' quarter\nquadrangle with a 300 (plus or minus 30) pixel buffer\non all four sides. The NAIP imagery is formatted to\nthe UTM coordinate system using the North American\nDatum of 1983 (NAD83). The NAIP imagery may contain\nas much as 10% cloud cover per tile. This file was\ngenerated by compressing NAIP imagery that cover the\ncounty extent. Two types of compression may be used for\nNAIP imagery: MrSID and JPEG 2000. Target value for the\ncompression ratio for 1 meter GSD is (15:1).",
 "serviceItemId": "f5393ac0815b44a18181faaa197b999e",
 "name": "Imagery/DubuqueCounty2013",
 "description": "This data set contains imagery from the National\nAgriculture Imagery Program (NAIP). The NAIP\nacquires 4-band digital ortho imagery from airbourne\nand/or space based platforms during the agricultural\ngrowing seasons in the U.S.. A primary goal of the\nNAIP program is to enable availability of ortho imagery\nwithin sixty days of acquisition. The NAIP provides\n1 meter GSD ortho imagery rectified within +/- 6 meters to\ntrue ground at a 95% confidence level. The tiling format\nof NAIP imagery is based on a 3.75' x 3.75' quarter\nquadrangle with a 300 (plus or minus 30) pixel buffer\non all four sides. The NAIP imagery is formatted to\nthe UTM coordinate system using the North American\nDatum of 1983 (NAD83). The NAIP imagery may contain\nas much as 10% cloud cover per tile. This file was\ngenerated by compressing NAIP imagery that cover the\ncounty extent. Two types of compression may be used for\nNAIP imagery: MrSID and JPEG 2000. Target value for the\ncompression ratio for 1 meter GSD is (15:1).",
 "extent": {
  "xmin": 648172,
  "ymin": 4678814,
  "xmax": 711286,
  "ymax": 4729016,
  "spatialReference": {
   "wkid": 26915,
   "latestWkid": 26915
  }
 },
 "initialExtent": {
  "xmin": 648172,
  "ymin": 4678814,
  "xmax": 711286,
  "ymax": 4729016,
  "spatialReference": {
   "wkid": 26915,
   "latestWkid": 26915
  }
 },
 "fullExtent": {
  "xmin": 648172,
  "ymin": 4678814,
  "xmax": 711286,
  "ymax": 4729016,
  "spatialReference": {
   "wkid": 26915,
   "latestWkid": 26915
  }
 },
 "sortableFields": "",
 "bandCount": 3,
 "pixelType": "U8",
 "minValues": [
  0,
  0,
  0
 ],
 "maxValues": [
  255,
  255,
  255
 ],
 "meanValues": [
  68.63587914187522,
  80.02416408574776,
  70.00514344553312
 ],
 "stdvValues": [
  45.8920687323407,
  51.08133120041904,
  43.29292502542604
 ],
 "serviceProperties": "Center<\/MosaicMethod>First<\/MosaicOperator>true<\/SortAscending><\/LockImageID><\/TileOrderField>0<\/TileOrderBase>0.000000<\/AvgImageSpacingX>0.000000<\/AvgImageSpacingY>0.0<\/ViewPointX>0.0<\/ViewPointY>0.0<\/ViewPointDefShiftX>0.0<\/ViewPointDefShiftY>None<\/CompressionMethod>75<\/CompressionQuality>0.010000<\/CompressionTolerance>Bilinear<\/SamplingMethod><\/ImageServiceProperties><\/ImageServer>",
 "allowedFields": "",
 "hasMultidimensions": false,
 "pixelSizeX": 1,
 "pixelSizeY": 1,
 "meanPixelSize": 1,
 "datasetFormat": "FGDBR",
 "uncompressedSize": 9505347084,
 "blockWidth": 128,
 "blockHeight": 128,
 "compressionType": "LZ77",
 "bandNames": [
  "Band_1",
  "Band_2",
  "Band_3"
 ],
 "allowCopy": true,
 "allowAnalysis": true,
 "itemAccess": false,
 "inspectionCapabilities": "",
 "minPixelSize": 0,
 "maxPixelSize": 0,
 "copyrightText": "",
 "serviceDataType": "esriImageServiceDataTypeRGB",
 "serviceSourceType": "esriImageServiceSourceTypeDataset",
 "objectIdField": "",
 "fields": [],
 "capabilities": "Mensuration,Image,Metadata",
 "defaultMosaicMethod": "Center",
 "allowedMosaicMethods": "",
 "sortField": "",
 "sortValue": null,
 "sortAscending": true,
 "mosaicOperator": "First",
 "defaultCompressionQuality": 75,
 "defaultResamplingMethod": "Bilinear",
 "maxImageHeight": 4100,
 "maxImageWidth": 15000,
 "allowRasterFunction": true,
 "rasterFunctionInfos": [
  {
   "name": "None",
   "description": "",
   "help": ""
  }
 ],
 "rasterTypeInfos": [
  {
   "name": "Raster Dataset",
   "description": "Supports all ArcGIS Raster Datasets",
   "help": ""
  }
 ],
 "mensurationCapabilities": "Basic",
 "hasHistograms": true,
 "hasColormap": false,
 "hasRasterAttributeTable": false,
 "minScale": 0,
 "maxScale": 0,
 "exportTilesAllowed": false,
 "supportsStatistics": false,
 "supportsAdvancedQueries": false,
 "editFieldsInfo": null,
 "ownershipBasedAccessControlForRasters": null,
 "allowComputeTiePoints": false,
 "useStandardizedQueries": true,
 "advancedQueryCapabilities": {
  "useStandardizedQueries": true,
  "supportsStatistics": false,
  "supportsOrderBy": false,
  "supportsDistinct": false,
  "supportsPagination": false
 },
 "spatialReference": {
  "wkid": 26915,
  "latestWkid": 26915
 },
 "resampling": false
}
