{
 "currentVersion": 11.5,
 "serviceDescription": "This data set contains imagery from the National\nAgriculture Imagery Program (NAIP). The NAIP\nacquires digital ortho imagery during the\nagricultural growing seasons in the continental U.S..\nA primary goal of the NAIP program is to enable\navailability of ortho imagery within one year of\nacquisition. NAIP provides two main products: 1\nmeter ground sample distance (GSD) ortho imagery\nrectified to a horizontal accuracy of within +/- 5 meters\nof reference digital ortho quarter quads (DOQQ's) from\nthe National Digital Ortho Program (NDOP) or from the\nNational Agriculture Imagery Program (NAIP); 1 meter\nGSD ortho imagery rectified to within +/- 6 meters to\ntrue ground. The tiling format of NAIP imagery is\nbased on a 3.75' x 3.75' quarter quadrangle with a 300\nmeter buffer on all four sides. The NAIP imagery is\nformatted to the UTM coordinate system using the North\nAmerican Datum of 1983 (NAD83). The NAIP imagery may\ncontain as much as 10% cloud per tile. This file\nwas generated by compressing NAIP imagery that cover\nthe county extent. Two types of compression may be\nused for NAIP imagery: MrSID and JPEG 2000. Target\nvalues for the compression ratio are (15:1).",
 "serviceItemId": "950a5998110c402d8d061b9607bbd08f",
 "name": "Imagery/DubuqueCounty2011",
 "description": "This data set contains imagery from the National\nAgriculture Imagery Program (NAIP). The NAIP\nacquires digital ortho imagery during the\nagricultural growing seasons in the continental U.S..\nA primary goal of the NAIP program is to enable\navailability of ortho imagery within one year of\nacquisition. NAIP provides two main products: 1\nmeter ground sample distance (GSD) ortho imagery\nrectified to a horizontal accuracy of within +/- 5 meters\nof reference digital ortho quarter quads (DOQQ's) from\nthe National Digital Ortho Program (NDOP) or from the\nNational Agriculture Imagery Program (NAIP); 1 meter\nGSD ortho imagery rectified to within +/- 6 meters to\ntrue ground. The tiling format of NAIP imagery is\nbased on a 3.75' x 3.75' quarter quadrangle with a 300\nmeter buffer on all four sides. The NAIP imagery is\nformatted to the UTM coordinate system using the North\nAmerican Datum of 1983 (NAD83). The NAIP imagery may\ncontain as much as 10% cloud per tile. This file\nwas generated by compressing NAIP imagery that cover\nthe county extent. Two types of compression may be\nused for NAIP imagery: MrSID and JPEG 2000. Target\nvalues for the compression ratio are (15:1).",
 "extent": {
  "xmin": 648172,
  "ymin": 4678814,
  "xmax": 711286,
  "ymax": 4729016,
  "spatialReference": {
   "wkid": 26915,
   "latestWkid": 26915
  }
 },
 "initialExtent": {
  "xmin": 648172,
  "ymin": 4678814,
  "xmax": 711286,
  "ymax": 4729016,
  "spatialReference": {
   "wkid": 26915,
   "latestWkid": 26915
  }
 },
 "fullExtent": {
  "xmin": 648172,
  "ymin": 4678814,
  "xmax": 711286,
  "ymax": 4729016,
  "spatialReference": {
   "wkid": 26915,
   "latestWkid": 26915
  }
 },
 "sortableFields": "",
 "bandCount": 3,
 "pixelType": "U8",
 "minValues": [
  0,
  0,
  0
 ],
 "maxValues": [
  255,
  255,
  255
 ],
 "meanValues": [
  68.63587914187522,
  80.02416408574776,
  70.00514344553312
 ],
 "stdvValues": [
  45.8920687323407,
  51.08133120041904,
  43.29292502542604
 ],
 "serviceProperties": "Center<\/MosaicMethod>First<\/MosaicOperator>true<\/SortAscending><\/LockImageID><\/TileOrderField>0<\/TileOrderBase>0.000000<\/AvgImageSpacingX>0.000000<\/AvgImageSpacingY>0.0<\/ViewPointX>0.0<\/ViewPointY>0.0<\/ViewPointDefShiftX>0.0<\/ViewPointDefShiftY>None<\/CompressionMethod>75<\/CompressionQuality>0.010000<\/CompressionTolerance>Bilinear<\/SamplingMethod><\/ImageServiceProperties><\/ImageServer>",
 "allowedFields": "",
 "hasMultidimensions": false,
 "pixelSizeX": 1,
 "pixelSizeY": 1,
 "meanPixelSize": 1,
 "datasetFormat": "FGDBR",
 "uncompressedSize": 9505347084,
 "blockWidth": 128,
 "blockHeight": 128,
 "compressionType": "LZ77",
 "bandNames": [
  "Band_1",
  "Band_2",
  "Band_3"
 ],
 "allowCopy": true,
 "allowAnalysis": true,
 "itemAccess": false,
 "inspectionCapabilities": "",
 "minPixelSize": 0,
 "maxPixelSize": 0,
 "copyrightText": "",
 "serviceDataType": "esriImageServiceDataTypeRGB",
 "serviceSourceType": "esriImageServiceSourceTypeDataset",
 "objectIdField": "",
 "fields": [],
 "capabilities": "Mensuration,Image,Metadata",
 "defaultMosaicMethod": "Center",
 "allowedMosaicMethods": "",
 "sortField": "",
 "sortValue": null,
 "sortAscending": true,
 "mosaicOperator": "First",
 "defaultCompressionQuality": 75,
 "defaultResamplingMethod": "Bilinear",
 "maxImageHeight": 4100,
 "maxImageWidth": 15000,
 "allowRasterFunction": true,
 "rasterFunctionInfos": [
  {
   "name": "None",
   "description": "",
   "help": ""
  }
 ],
 "rasterTypeInfos": [
  {
   "name": "Raster Dataset",
   "description": "Supports all ArcGIS Raster Datasets",
   "help": ""
  }
 ],
 "mensurationCapabilities": "Basic",
 "hasHistograms": true,
 "hasColormap": false,
 "hasRasterAttributeTable": false,
 "minScale": 0,
 "maxScale": 0,
 "exportTilesAllowed": false,
 "supportsStatistics": false,
 "supportsAdvancedQueries": false,
 "editFieldsInfo": null,
 "ownershipBasedAccessControlForRasters": null,
 "allowComputeTiePoints": false,
 "useStandardizedQueries": true,
 "advancedQueryCapabilities": {
  "useStandardizedQueries": true,
  "supportsStatistics": false,
  "supportsOrderBy": false,
  "supportsDistinct": false,
  "supportsPagination": false
 },
 "spatialReference": {
  "wkid": 26915,
  "latestWkid": 26915
 },
 "resampling": false
}
